BEGIN:VCALENDAR
VERSION:2.0
PRODID:-//jEvents 2.0 for Joomla//EN
CALSCALE:GREGORIAN
METHOD:PUBLISH
BEGIN:VEVENT
UID:ec9a0ddfdaaa16ec1281ee89381141cb
CATEGORIES:18. Bezirk
CREATED:20250611T102927
SUMMARY:Kunterbunter Bewegungsspaß
LOCATION:Spielringel  Mollgasse  11-13
DESCRIPTION:Kunterbunter Bewegungsspaßfür Kleinkinder 1-2,5 JahreEs wird eine bunte Bew
 egungslandschaft aufgebaut, die von den Kleinen gemeinsam mit der Begleitpe
 rson erkundet werden darf.\nKlettern, Balancieren, Hüpfen, Springen usw. ma
 cht allen Spaß!\n
X-ALT-DESC;FMTTYPE=text/html:<h2 class="element-header" style="box-sizing: border-box; margin-top: 0px; 
 margin-bottom: 0.5rem; font-family: Montserrat; font-weight: 300; line-heig
 ht: 1.2; font-size: 2.275rem; color: #2b2b2b;">Kunterbunter Bewegungsspaß</
 h2><h4 style="box-sizing: border-box; margin-top: 0px; margin-bottom: 1rem;
  font-family: Montserrat; font-weight: 300; line-height: 1.2; font-size: 1.
 625rem; color: #2b2b2b;">für Kleinkinder 1-2,5 Jahre</h4><p style="box-sizi
 ng: border-box; margin-top: 0px; margin-bottom: 1rem; color: #2b2b2b; font-
 family: Roboto; font-size: 16px;">Es wird eine bunte Bewegungslandschaft au
 fgebaut, die von den Kleinen gemeinsam mit der Begleitperson erkundet werde
 n darf.</p><p style="box-sizing: border-box; margin-top: 0px; margin-bottom
 : 1rem; color: #2b2b2b; font-family: Roboto; font-size: 16px;">Klettern, Ba
 lancieren, Hüpfen, Springen usw. macht allen Spaß!</p>
CONTACT:www.spielringel.at
X-EXTRAINFO:[preis='2000'][anmeldung='true']
DTSTAMP:20260425T232959
DTSTART:20250710T070300
DTEND:20250710T083000
SEQUENCE:0
TRANSP:OPAQUE
END:VEVENT
END:VCALENDAR