BEGIN:VCALENDAR
VERSION:2.0
PRODID:-//jEvents 2.0 for Joomla//EN
CALSCALE:GREGORIAN
METHOD:PUBLISH
BEGIN:VEVENT
UID:8ff01a1d68b88dc04017a7dc979e62df
CATEGORIES:18. Bezirk
CREATED:20250611T105613
SUMMARY:Spielend durch den Sommer am Freitag
LOCATION:Mollgasse 11-13\, 1180 Wien
DESCRIPTION:Spielend durch den Sommer am Freitagfür Kinder von 1-3 JahrenWir spielen un
 d basteln passend zum Sommer!\nHier werden wir gemeinsam den Sommer mit all
 en Sinnen erleben. Es wird der Jahreszeit entsprechend gebastelt, gewerkt, 
 entdeckt und gespielt. Natürlich bleibt auch genug Zeit und Raum für sozial
 e Interaktionen und Bewegungen.\n
X-ALT-DESC;FMTTYPE=text/html:<h2 class="element-header" style="box-sizing: border-box; margin-top: 0px; 
 margin-bottom: 0.5rem; font-family: Montserrat; font-weight: 300; line-heig
 ht: 1.2; font-size: 2.275rem; color: #2b2b2b;">Spielend durch den Sommer am
  Freitag</h2><h4 style="box-sizing: border-box; margin-top: 0px; margin-bot
 tom: 1rem; font-family: Montserrat; font-weight: 300; line-height: 1.2; fon
 t-size: 1.625rem; color: #2b2b2b;">für Kinder von 1-3 Jahren</h4><p style="
 box-sizing: border-box; margin-top: 0px; margin-bottom: 1rem; color: #2b2b2
 b; font-family: Roboto; font-size: 16px;">Wir spielen und basteln passend z
 um Sommer!</p><p style="box-sizing: border-box; margin-top: 0px; margin-bot
 tom: 1rem; color: #2b2b2b; font-family: Roboto; font-size: 16px;">Hier werd
 en wir gemeinsam den Sommer mit allen Sinnen erleben. Es wird der Jahreszei
 t entsprechend gebastelt, gewerkt, entdeckt und gespielt. Natürlich bleibt 
 auch genug Zeit und Raum für soziale Interaktionen und Bewegungen.</p>
CONTACT:www.spielringel.at
X-EXTRAINFO:[preis='2000'][anmeldung='true']
DTSTAMP:20260426T004933
DTSTART:20250711T073000
DTEND:20250711T083000
SEQUENCE:0
TRANSP:OPAQUE
END:VEVENT
END:VCALENDAR