BEGIN:VCALENDAR
VERSION:2.0
PRODID:-//jEvents 2.0 for Joomla//EN
CALSCALE:GREGORIAN
METHOD:PUBLISH
BEGIN:VEVENT
UID:1aaf32a4abf8adeb696d2f2dce1bc9c6
CATEGORIES:18. Bezirk
CREATED:20250611T111616
SUMMARY:Mit allen Sinnen am Freitag
LOCATION:Spielringel  Mollgasse  11-13
DESCRIPTION:Die Kinder können nach Herzenslust mit verschiedenen Materialien (wie zum B
 eispiel Reis, Wasser, selbstgemachten Fingerfarben und Schleim) matschen, g
 atschen, schütten, spielen und experimentieren. Dabei werden ihre sensomoto
 rischen Fähigkeiten und ihre Kreativität gefördert. Die Eltern haben die Mö
 glichkeit, ihre Kinder in dieser Entdeckungsreise zu begleiten und zu unter
 stützen.\nBitte denkt daran, ein Outfit zu wählen, das schmutzig werden dar
 f, und bringt ein Wechselgewand mit! \nDieses Sinnneserlebnis im Sommer ist
  für Kinder ab dem Krabbelalter bis zu 3 Jahren geeignet!\n
X-ALT-DESC;FMTTYPE=text/html:<p style="box-sizing: border-box; margin-top: 0px; margin-bottom: 1rem; col
 or: #2b2b2b; font-family: Roboto; font-size: 16px;">Die Kinder können nach 
 Herzenslust mit verschiedenen Materialien (wie zum Beispiel Reis, Wasser, s
 elbstgemachten Fingerfarben und Schleim) matschen, gatschen, schütten, spie
 len und experimentieren. Dabei werden ihre sensomotorischen Fähigkeiten und
  ihre Kreativität gefördert. Die Eltern haben die Möglichkeit, ihre Kinder 
 in dieser Entdeckungsreise zu begleiten und zu unterstützen.</p><p style="b
 ox-sizing: border-box; margin-top: 0px; margin-bottom: 1rem; color: #2b2b2b
 ; font-family: Roboto; font-size: 16px;">Bitte denkt daran, ein Outfit zu w
 ählen, das schmutzig werden darf, und bringt ein Wechselgewand mit!&nbsp;</
 p><p style="box-sizing: border-box; margin-top: 0px; margin-bottom: 1rem; c
 olor: #2b2b2b; font-family: Roboto; font-size: 16px;"><br style="box-sizing
 : border-box;" />Dieses Sinnneserlebnis im Sommer ist für Kinder ab dem Kra
 bbelalter bis zu 3 Jahren geeignet!</p>
CONTACT:www.spielringel.at
X-EXTRAINFO:[preis='2000'][anmeldung='true']
DTSTAMP:20260426T004925
DTSTART:20250711T091500
DTEND:20250711T101500
SEQUENCE:0
TRANSP:OPAQUE
END:VEVENT
END:VCALENDAR