BEGIN:VCALENDAR
VERSION:2.0
PRODID:-//jEvents 2.0 for Joomla//EN
CALSCALE:GREGORIAN
METHOD:PUBLISH
BEGIN:VEVENT
UID:f87a0bbb4602c9f0e34ccff11d56c0ac
CATEGORIES:18. Bezirk
CREATED:20250618T110005
SUMMARY:Eltern-Kind Spielraum auf Basis der Emmi Pikler Pädagogik
LOCATION:Spielringel  Mollgasse  11-13
DESCRIPTION:Eltern-Kind Spielraum auf Basis der Emmi Pikler Pädagogik  (7-13 Monate)Sta
 rt: 08.09.2025\nMit: Steffy (https://spielringel.at/angebote/das-team/steff
 y-borgwardt)\nKurstag: Montag 09:30-10:30 und 1x Mittwoch 18:30-20:30\nTerm
 ine: 08.09., 15.09., 22.09., 29.09., 06.10., 13.10., 20.10., 03.11. und 2x 
 Gesprächskreis am 17.09. und am 08.10.\nKosten: €205,- (8 Einheiten und 2x 
 Gesprächskreis am Mittwoch Abend)\nIn unserem Eltern Kind Spielraum, triffs
 t du auf eine von Steffy vorbereitete Umgebung, in der dein Kind die Möglic
 hkeit bekommt herauszufinden, was gerade dran ist.\nIn diesem Moment, aus d
 em Innersten heraus.\n
X-ALT-DESC;FMTTYPE=text/html:<h2 class="element-header" style="box-sizing: border-box; margin-top: 0px; 
 margin-bottom: 1rem; font-family: Montserrat; font-weight: 300; line-height
 : 1.2; font-size: 2.275rem; color: #2b2b2b;">Eltern-Kind Spielraum auf Basi
 s der Emmi Pikler Pädagogik&nbsp; (7-13 Monate)</h2><p style="box-sizing: b
 order-box; margin-top: 0px; margin-bottom: 1rem; color: #2b2b2b; font-famil
 y: Roboto; font-size: 16px;"><span class="text-primary font-weight-bold" st
 yle="box-sizing: border-box; font-weight: 700 !important; color: #158795 !i
 mportant;">Start:&nbsp;</span>08.09.2025</p><p style="box-sizing: border-bo
 x; margin-top: 0px; margin-bottom: 1rem; color: #2b2b2b; font-family: Robot
 o; font-size: 16px;"><span class="text-primary font-weight-bold" style="box
 -sizing: border-box; font-weight: 700 !important; color: #158795 !important
 ;">Mit:&nbsp;</span><a href="https://spielringel.at/angebote/das-team/steff
 y-borgwardt" style="box-sizing: border-box; color: #158795; text-decoration
 -line: none; background-color: transparent;">Steffy</a></p><p style="box-si
 zing: border-box; margin-top: 0px; margin-bottom: 1rem; color: #2b2b2b; fon
 t-family: Roboto; font-size: 16px;"><span class="text-primary font-weight-b
 old" style="box-sizing: border-box; font-weight: 700 !important; color: #15
 8795 !important;">Kurstag:&nbsp;</span>Montag 09:30-10:30 und 1x Mittwoch 1
 8:30-20:30</p><p style="box-sizing: border-box; margin-top: 0px; margin-bot
 tom: 1rem; color: #2b2b2b; font-family: Roboto; font-size: 16px;"><span cla
 ss="text-primary font-weight-bold" style="box-sizing: border-box; font-weig
 ht: 700 !important; color: #158795 !important;">Termine:&nbsp;</span>08.09.
 , 15.09., 22.09., 29.09., 06.10., 13.10., 20.10., 03.11. und 2x Gesprächskr
 eis am 17.09. und am 08.10.</p><p style="box-sizing: border-box; margin-top
 : 0px; margin-bottom: 1rem; color: #2b2b2b; font-family: Roboto; font-size:
  16px;"><span class="text-primary font-weight-bold" style="box-sizing: bord
 er-box; font-weight: 700 !important; color: #158795 !important;">Kosten:&nb
 sp;</span>€205,- (8 Einheiten und 2x Gesprächskreis am Mittwoch Abend)</p><
 p style="box-sizing: border-box; margin-top: 0px; margin-bottom: 1rem; colo
 r: #2b2b2b; font-family: Roboto; font-size: 16px;">In unserem Eltern Kind S
 pielraum, triffst du auf eine von Steffy vorbereitete Umgebung, in der dein
  Kind die Möglichkeit bekommt herauszufinden, was gerade dran ist.</p><p st
 yle="box-sizing: border-box; margin-top: 0px; margin-bottom: 1rem; color: #
 2b2b2b; font-family: Roboto; font-size: 16px;">In diesem Moment, aus dem In
 nersten heraus.</p>
CONTACT:www.spielringel.at
X-EXTRAINFO:[preis='20500'][anmeldung='true']
DTSTAMP:20260426T015832
DTSTART:20250908T073000
DTEND:20250908T083000
SEQUENCE:0
TRANSP:OPAQUE
END:VEVENT
END:VCALENDAR