BEGIN:VCALENDAR
VERSION:2.0
PRODID:-//jEvents 2.0 for Joomla//EN
CALSCALE:GREGORIAN
METHOD:PUBLISH
BEGIN:VEVENT
UID:fd5e5defd4e543607ca85ead3d4afd75
CATEGORIES:18. Bezirk
CREATED:20250618T110105
SUMMARY:Eltern-Kind Spielraum auf Basis der Emmi Pikler Pädagogik
LOCATION:Spielringel  Mollgasse  11-13
DESCRIPTION:Start: 08.09.2025\nMit: Steffy (https://spielringel.at/angebote/das-team/st
 effy-borgwardt)\nKurstag: Montag 10:45-11:45 und 2x Mittwoch 18:30-20:30\nT
 ermine: 08.09., 15.09., 22.09., 29.09., 06.10., 13.10., 20.10., 03.11. und 
 2x Gesprächskreis am 17.09. und am 08.10.\nKosten: €205,- (8 Einheiten und 
 2x Gesprächskreis am Mittwoch Abend)\nIn unserem Eltern Kind Spielraum, tri
 ffst du auf eine von Steffy vorbereitete Umgebung, in der dein Kind die Mög
 lichkeit bekommt herauszufinden, was gerade dran ist.\nIn diesem Moment, au
 s dem Innersten heraus.\n
X-ALT-DESC;FMTTYPE=text/html:<p style="box-sizing: border-box; margin-top: 0px; margin-bottom: 1rem; col
 or: #2b2b2b; font-family: Roboto; font-size: 16px;"><span class="text-prima
 ry font-weight-bold" style="box-sizing: border-box; font-weight: 700 !impor
 tant; color: #158795 !important;">Start:&nbsp;</span>08.09.2025</p><p style
 ="box-sizing: border-box; margin-top: 0px; margin-bottom: 1rem; color: #2b2
 b2b; font-family: Roboto; font-size: 16px;"><span class="text-primary font-
 weight-bold" style="box-sizing: border-box; font-weight: 700 !important; co
 lor: #158795 !important;">Mit:&nbsp;</span><a href="https://spielringel.at/
 angebote/das-team/steffy-borgwardt" style="box-sizing: border-box; color: #
 158795; text-decoration-line: none; background-color: transparent;">Steffy<
 /a></p><p style="box-sizing: border-box; margin-top: 0px; margin-bottom: 1r
 em; color: #2b2b2b; font-family: Roboto; font-size: 16px;"><span class="tex
 t-primary font-weight-bold" style="box-sizing: border-box; font-weight: 700
  !important; color: #158795 !important;">Kurstag:&nbsp;</span>Montag 10:45-
 11:45 und 2x Mittwoch 18:30-20:30</p><p style="box-sizing: border-box; marg
 in-top: 0px; margin-bottom: 1rem; color: #2b2b2b; font-family: Roboto; font
 -size: 16px;"><span class="text-primary font-weight-bold" style="box-sizing
 : border-box; font-weight: 700 !important; color: #158795 !important;">Term
 ine:&nbsp;</span>08.09., 15.09., 22.09., 29.09., 06.10., 13.10., 20.10., 03
 .11. und 2x Gesprächskreis am 17.09. und am 08.10.</p><p style="box-sizing:
  border-box; margin-top: 0px; margin-bottom: 1rem; color: #2b2b2b; font-fam
 ily: Roboto; font-size: 16px;"><span class="text-primary font-weight-bold" 
 style="box-sizing: border-box; font-weight: 700 !important; color: #158795 
 !important;">Kosten:&nbsp;</span>€205,- (8 Einheiten und 2x Gesprächskreis 
 am Mittwoch Abend)</p><p style="box-sizing: border-box; margin-top: 0px; ma
 rgin-bottom: 1rem; color: #2b2b2b; font-family: Roboto; font-size: 16px;">I
 n unserem Eltern Kind Spielraum, triffst du auf eine von Steffy vorbereitet
 e Umgebung, in der dein Kind die Möglichkeit bekommt herauszufinden, was ge
 rade dran ist.</p><p style="box-sizing: border-box; margin-top: 0px; margin
 -bottom: 1rem; color: #2b2b2b; font-family: Roboto; font-size: 16px;">In di
 esem Moment, aus dem Innersten heraus.</p>
CONTACT:www.spielringel.at
X-EXTRAINFO:[preis='20500'][anmeldung='true']
DTSTAMP:20260426T033103
DTSTART:20251006T084500
DTEND:20251006T094500
SEQUENCE:0
TRANSP:OPAQUE
END:VEVENT
END:VCALENDAR