BEGIN:VCALENDAR
VERSION:2.0
PRODID:-//jEvents 2.0 for Joomla//EN
CALSCALE:GREGORIAN
METHOD:PUBLISH
BEGIN:VEVENT
UID:45775de732dc1341e84618bccb4aef6d
CATEGORIES:12. Bezirk
CREATED:20250702T125142
SUMMARY:ANMELDESTART: Formen - Lagen - Muster - ein Mathematikkurs für Kindergartenkinder
LOCATION:Flurschützstraße 5/1/1\, 1120 Wien
DESCRIPTION:       Normal  0      21      false  false  false    DE  X-NONE  X-NONE    
                                                                            
                                                                            
                                                                            
                                                                            
                                                                            
                                                                            
                                                                            
                                                                            
                                                                            
                                                                            
                                                                    /* Style
  Definitions */ table.MsoNormalTable	{mso-style-name:"Normale Tabelle";	mso
 -tstyle-rowband-size:0;	mso-tstyle-colband-size:0;	mso-style-noshow:yes;	ms
 o-style-priority:99;	mso-style-parent:"";	mso-padding-alt:0cm 5.4pt 0cm 5.4
 pt;	mso-para-margin-top:0cm;	mso-para-margin-right:0cm;	mso-para-margin-bot
 tom:10.0pt;	mso-para-margin-left:0cm;	line-height:115%;	mso-pagination:wido
 w-orphan;	font-size:11.0pt;	font-family:"Calibri",sans-serif;	mso-ascii-fon
 t-family:Calibri;	mso-ascii-theme-font:minor-latin;	mso-hansi-font-family:C
 alibri;	mso-hansi-theme-font:minor-latin;	mso-bidi-font-family:"Times New R
 oman";	mso-bidi-theme-font:minor-bidi;	mso-ansi-language:DE;	mso-fareast-la
 nguage:EN-US;}\nANMELDESTART!\n \nDer Kurs selber beginnt am 04. August und
  findet täglich bis zum 08.08.2025 statt, jeweils um 10.30-11:30.\n \nWir e
 rforschen Formen, Lagen, Muster und Symmetrien. Wuppi - unser außerirdische
 r Freund - begleitet uns nicht nur auf unserer Reise durch die Geometrie, s
 ondern er bringt uns auch viel über das Lernen-lernen bei.\n \nWir spielen 
 und lernen in einer kleinen Gruppe von max. 6 Kindern und 2 Erwachsenen (Tr
 ainerin und Co-Trainer). So wird jedes Kind individuell gefördert!\n \nBei 
 freien Plätzen werden auch ErstklässlerInnen aufgenommen.\n \nKursstart ver
 passt? Der nächste Formenkurs beginnt am 13.01.2026 und dauert bis 10.03.20
 26.\n \nWir freuen uns auf dich!\n \nMehr Informationen und weitere Kurse a
 uf www.hochbegabung.wien (https://www.hochbegabung.wien)\n \nSchnuppertermi
 ne sind bei freien Kursplätzen nach Rücksprache möglich. Geschwisterkinder 
 zahlen 15% weniger.\n \n
X-ALT-DESC;FMTTYPE=text/html:<p>       Normal  0      21      false  false  false    DE  X-NONE  X-NONE 
                                                                            
                                                                            
                                                                            
                                                                            
                                                                            
                                                                            
                                                                            
                                                                            
                                                                            
                                                                            
                                                                       /* St
 yle Definitions */ table.MsoNormalTable	{mso-style-name:"Normale Tabelle";	
 mso-tstyle-rowband-size:0;	mso-tstyle-colband-size:0;	mso-style-noshow:yes;
 	mso-style-priority:99;	mso-style-parent:"";	mso-padding-alt:0cm 5.4pt 0cm 
 5.4pt;	mso-para-margin-top:0cm;	mso-para-margin-right:0cm;	mso-para-margin-
 bottom:10.0pt;	mso-para-margin-left:0cm;	line-height:115%;	mso-pagination:w
 idow-orphan;	font-size:11.0pt;	font-family:"Calibri",sans-serif;	mso-ascii-
 font-family:Calibri;	mso-ascii-theme-font:minor-latin;	mso-hansi-font-famil
 y:Calibri;	mso-hansi-theme-font:minor-latin;	mso-bidi-font-family:"Times Ne
 w Roman";	mso-bidi-theme-font:minor-bidi;	mso-ansi-language:DE;	mso-fareast
 -language:EN-US;}</p><p><strong>ANMELDESTART!</strong></p><p>&nbsp;</p><p><
 strong>Der Kurs selber beginnt am 04. August und findet täglich bis zum 08.
 08.2025 statt, jeweils um 10.30-11:30.</strong></p><p>&nbsp;</p><p>Wir erfo
 rschen Formen, Lagen, Muster und Symmetrien. Wuppi - unser außerirdischer F
 reund - begleitet uns nicht nur auf unserer Reise durch die Geometrie, sond
 ern er bringt uns auch viel über das Lernen-lernen bei.</p><p>&nbsp;</p><p>
 Wir spielen und lernen in einer kleinen Gruppe von max. 6 Kindern und 2 Erw
 achsenen (Trainerin und Co-Trainer). So wird jedes Kind individuell geförde
 rt!</p><p>&nbsp;</p><p>Bei freien Plätzen werden auch ErstklässlerInnen auf
 genommen.</p><p>&nbsp;</p><p>Kursstart verpasst? <strong>Der nächste Formen
 kurs</strong> beginnt am&nbsp;<strong>13.01.2026&nbsp;</strong>und dauert b
 is<strong>&nbsp;10.03.2026</strong>.</p><p>&nbsp;</p><p>Wir freuen uns auf 
 dich!</p><p>&nbsp;</p><p>Mehr Informationen und weitere Kurse auf <a href="
 https://www.hochbegabung.wien">www.hochbegabung.wien</a></p><p>&nbsp;</p><p
 ><strong>Schnuppertermine</strong> sind bei freien Kursplätzen nach Rückspr
 ache möglich. Geschwisterkinder zahlen 15% weniger.</p><p>&nbsp;</p>
CONTACT:birgit.hartel@hochbegabung.wien
X-EXTRAINFO:[preis='15500'][anmeldung='true']
DTSTAMP:20260426T010041
DTSTART:20250731T083000
DTEND:20250731T093000
SEQUENCE:0
TRANSP:OPAQUE
END:VEVENT
END:VCALENDAR