BEGIN:VCALENDAR
VERSION:2.0
PRODID:-//jEvents 2.0 for Joomla//EN
CALSCALE:GREGORIAN
METHOD:PUBLISH
BEGIN:VEVENT
UID:506c45647a4660a6f6402c2bf15c9b97
CATEGORIES:18. Bezirk
CREATED:20250706T140352
SUMMARY:Spiel & Spaß im Sommer am Nachmittag
LOCATION:Spielringel  Mollgasse  11-13
DESCRIPTION:für Babys und Kleinkinder 8 Monate - 2 JahreKurstag: Donnerstag 14:00-15:00
 \nTermine: 14.08./ 21.08.\nKosten: €20,- (für eine Einheit)\nIm Sommer gibt
  es Einzeleinheiten von unserer Spiel &amp; Spaß Gruppe auch am Donnerstag 
 Nachmitag zu buchen.\nDas freie Spiel steht im Vordergrund. Nebenbei werden
  motorische Fähigkeiten geschult, alle Sinne gefördert und erste soziale Ko
 ntakte zu Gleichaltrigen gemacht.\nAuch die "Großen" können Erfahrungen aus
 tauschen und neue Kontakte knüpfen.\n
X-ALT-DESC;FMTTYPE=text/html:<h4 style="box-sizing: border-box; margin-top: 0px; margin-bottom: 1rem; fo
 nt-family: Montserrat; font-weight: 300; line-height: 1.2; font-size: 1.25r
 em; color: #2b2b2b;">für Babys und Kleinkinder 8 Monate - 2 Jahre</h4><p st
 yle="box-sizing: border-box; margin-top: 0px; margin-bottom: 1rem; color: #
 2b2b2b; font-family: Roboto; font-size: 16px;"><span class="text-primary fo
 nt-weight-bold" style="box-sizing: border-box; font-weight: 700 !important;
  color: #158795 !important;">Kurstag:&nbsp;</span>Donnerstag 14:00-15:00</p
 ><p style="box-sizing: border-box; margin-top: 0px; margin-bottom: 1rem; co
 lor: #2b2b2b; font-family: Roboto; font-size: 16px;"><span class="text-prim
 ary font-weight-bold" style="box-sizing: border-box; font-weight: 700 !impo
 rtant; color: #158795 !important;">Termine:&nbsp;</span>14.08./ 21.08.</p><
 p style="box-sizing: border-box; margin-top: 0px; margin-bottom: 1rem; colo
 r: #2b2b2b; font-family: Roboto; font-size: 16px;"><span class="text-primar
 y font-weight-bold" style="box-sizing: border-box; font-weight: 700 !import
 ant; color: #158795 !important;">Kosten:&nbsp;</span>€20,- (für eine Einhei
 t)</p><p style="box-sizing: border-box; margin-top: 0px; margin-bottom: 1re
 m; color: #2b2b2b; font-family: Roboto; font-size: 16px;">Im Sommer gibt es
  Einzeleinheiten von unserer Spiel &amp; Spaß Gruppe auch am Donnerstag Nac
 hmitag zu buchen.</p><p style="box-sizing: border-box; margin-top: 0px; mar
 gin-bottom: 1rem; color: #2b2b2b; font-family: Roboto; font-size: 16px;">Da
 s freie Spiel steht im Vordergrund. Nebenbei werden motorische Fähigkeiten 
 geschult, alle Sinne gefördert und erste soziale Kontakte zu Gleichaltrigen
  gemacht.</p><p style="box-sizing: border-box; margin-top: 0px; margin-bott
 om: 1rem; color: #2b2b2b; font-family: Roboto; font-size: 16px;">Auch die "
 Großen" können Erfahrungen austauschen und neue Kontakte knüpfen.</p>
CONTACT:www.spielringel.at
X-EXTRAINFO:[preis='2000'][anmeldung='true']
DTSTAMP:20260426T005101
DTSTART:20250814T120000
DTEND:20250814T130000
SEQUENCE:0
TRANSP:OPAQUE
END:VEVENT
END:VCALENDAR