BEGIN:VCALENDAR
VERSION:2.0
PRODID:-//jEvents 2.0 for Joomla//EN
CALSCALE:GREGORIAN
METHOD:PUBLISH
BEGIN:VEVENT
UID:db26af30bcf1ec0ec273c6c5addd3ae2
CATEGORIES:18. Bezirk
CREATED:20250706T140857
SUMMARY:Mit allen Sinnen am Montag
LOCATION:Spielringel  Mollgasse  11-13
DESCRIPTION:Sinneserlebnis für Kinder ab dem Krabbelalter bis 3 JahrenKurstag: Montag 0
 9:30-10:30\nTermine: 18.08/ 25.08.\nKosten: €20,- pro Kind mit Begleitperso
 n für einen Termin\nDie Kinder können nach Herzenslust mit verschiedenen Ma
 terialien (wie zum Beispiel Reis, Wasser, selbstgemachten Fingerfarben und 
 Schleim) matschen, gatschen, schütten, spielen und experimentieren. Dabei w
 erden ihre sensomotorischen Fähigkeiten und ihre Kreativität gefördert. Die
  Eltern haben die Möglichkeit, ihre Kinder in dieser Entdeckungsreise zu be
 gleiten und zu unterstützen.\nBitte denkt daran, ein Outfit zu wählen, das 
 schmutzig werden darf, und bringt ein Wechselgewand mit! \nDieses Sinnneser
 lebnis im Sommer ist für Kinder ab dem Krabbelalter bis zu 3 Jahren geeigne
 t!\n \n
X-ALT-DESC;FMTTYPE=text/html:<h4 style="box-sizing: border-box; margin-top: 0px; margin-bottom: 1rem; fo
 nt-family: Montserrat; font-weight: 300; line-height: 1.2; font-size: 1.25r
 em; color: #2b2b2b;">Sinneserlebnis für Kinder ab dem Krabbelalter bis 3 Ja
 hren</h4><p style="box-sizing: border-box; margin-top: 0px; margin-bottom: 
 1rem; color: #2b2b2b; font-family: Roboto; font-size: 16px;"><span class="t
 ext-primary font-weight-bold" style="box-sizing: border-box; font-weight: 7
 00 !important; color: #158795 !important;">Kurstag:&nbsp;</span>Montag 09:3
 0-10:30</p><p style="box-sizing: border-box; margin-top: 0px; margin-bottom
 : 1rem; color: #2b2b2b; font-family: Roboto; font-size: 16px;"><span class=
 "text-primary font-weight-bold" style="box-sizing: border-box; font-weight:
  700 !important; color: #158795 !important;">Termine:&nbsp;</span>18.08/ 25
 .08.</p><p style="box-sizing: border-box; margin-top: 0px; margin-bottom: 1
 rem; color: #2b2b2b; font-family: Roboto; font-size: 16px;"><span class="te
 xt-primary font-weight-bold" style="box-sizing: border-box; font-weight: 70
 0 !important; color: #158795 !important;">Kosten:&nbsp;</span>€20,- pro Kin
 d mit Begleitperson für einen Termin</p><p style="box-sizing: border-box; m
 argin-top: 0px; margin-bottom: 1rem; color: #2b2b2b; font-family: Roboto; f
 ont-size: 16px;">Die Kinder können nach Herzenslust mit verschiedenen Mater
 ialien (wie zum Beispiel Reis, Wasser, selbstgemachten Fingerfarben und Sch
 leim) matschen, gatschen, schütten, spielen und experimentieren. Dabei werd
 en ihre sensomotorischen Fähigkeiten und ihre Kreativität gefördert. Die El
 tern haben die Möglichkeit, ihre Kinder in dieser Entdeckungsreise zu begle
 iten und zu unterstützen.</p><p style="box-sizing: border-box; margin-top: 
 0px; margin-bottom: 1rem; color: #2b2b2b; font-family: Roboto; font-size: 1
 6px;">Bitte denkt daran, ein Outfit zu wählen, das schmutzig werden darf, u
 nd bringt ein Wechselgewand mit!&nbsp;</p><p style="box-sizing: border-box;
  margin-top: 0px; margin-bottom: 1rem; color: #2b2b2b; font-family: Roboto;
  font-size: 16px;"><br style="box-sizing: border-box;" />Dieses Sinnneserle
 bnis im Sommer ist für Kinder ab dem Krabbelalter bis zu 3 Jahren geeignet!
 </p><p>&nbsp;</p>
CONTACT:www.spielringel.at
X-EXTRAINFO:[preis='2000'][anmeldung='true']
DTSTAMP:20260426T021833
DTSTART:20250825T073000
DTEND:20250825T083000
SEQUENCE:0
TRANSP:OPAQUE
END:VEVENT
END:VCALENDAR