BEGIN:VCALENDAR
VERSION:2.0
PRODID:-//jEvents 2.0 for Joomla//EN
CALSCALE:GREGORIAN
METHOD:PUBLISH
BEGIN:VEVENT
UID:5cc837d5c7aa161c9347d6140f116de1
CATEGORIES:23. Bezirk
CREATED:20250728T140525
SUMMARY:Theaterklub für Volksschulkids
LOCATION:VHS Liesing\, Liesinger Platz 3
DESCRIPTION:25611605 Theaterklub für Volksschulkids\nSchauspielworkshop\nSa 2x, 06.-13.
 12.2025, 9:30-12:30 Uhr\n6 UE | TN-Min/Max: 8-10\nVHS Liesing\nAnna Gasser\
 nGebühr: 44 €\nStehst du gerne im Rampenlicht oder bist du eigentlich schüc
 htern, interessierst dich aber für das Theater? Egal, ob du schon Erfahrung
  gesammelt hast oder ganz frisch Theaterluft schnuppern möchtest, bei uns b
 ist du auf jeden Fall richtig. Im Theaterklub gehen wir gemeinsam auf Entde
 ckungsreise. Wir erforschen spielerisch die Welt des Theaters, schlüpfen in
  verschiedene Rollen und erkunden die Grundlagen der Schauspieltechnik. \nN
 eugierig geworden? Dann nichts wie raus aus dem Zuschauerraum und rein ins 
 Abenteuer Theater. \nWir freuen uns auf dich!\nTermine:\n06.12.2025, 09:30:
 00 - 12:30:00\n13.12.2025, 09:30:00 - 12:30:00\n
X-ALT-DESC;FMTTYPE=text/html:<p>25611605 Theaterklub für Volksschulkids</p><p>Schauspielworkshop</p><p>S
 a 2x, 06.-13.12.2025, 9:30-12:30 Uhr</p><p>6 UE | TN-Min/Max: 8-10</p><p>VH
 S Liesing</p><p>Anna Gasser</p><p>Gebühr: 44 €</p><p>Stehst du gerne im Ram
 penlicht oder bist du eigentlich schüchtern, interessierst dich aber für da
 s Theater? Egal, ob du schon Erfahrung gesammelt hast oder ganz frisch Thea
 terluft schnuppern möchtest, bei uns bist du auf jeden Fall richtig. Im The
 aterklub gehen wir gemeinsam auf Entdeckungsreise. Wir erforschen spieleris
 ch die Welt des Theaters, schlüpfen in verschiedene Rollen und erkunden die
  Grundlagen der Schauspieltechnik.&nbsp;</p><p>Neugierig geworden? Dann nic
 hts wie raus aus dem Zuschauerraum und rein ins Abenteuer Theater.&nbsp;</p
 ><p>Wir freuen uns auf dich!</p><p>Termine:</p><p>06.12.2025, 09:30:00 - 12
 :30:00</p><p>13.12.2025, 09:30:00 - 12:30:00</p>
CONTACT:liesing@vhs.at, +43-1-89174-123000
X-EXTRAINFO:[preis='4400'][anmeldung='true']
DTSTAMP:20260426T043123
DTSTART:20251213T083000
DTEND:20251220T113000
SEQUENCE:0
TRANSP:OPAQUE
END:VEVENT
END:VCALENDAR