BEGIN:VCALENDAR
VERSION:2.0
PRODID:-//jEvents 2.0 for Joomla//EN
CALSCALE:GREGORIAN
METHOD:PUBLISH
BEGIN:VEVENT
UID:43373530657b3f552d716f0648315894
CATEGORIES:18. Bezirk
CREATED:20250728T141619
SUMMARY:Spiel & Spaß
LOCATION:Spielringel  Mollgasse  11-13
DESCRIPTION:Start: 09.09.2025\nMit: Claudia (https://spielringel.at/angebote/das-team/m
 ag-claudia-weissmann-karacsonyi)\nKurstag: Dienstag 09:00-10:00\nTermine: 0
 9.09., 16.09., 23.09., 30.09., 07.10.\nKosten: €90,- (5 Einheiten)\nIn dies
 em Kurs sollen Kinder und Erwachsene gemeinsam viel Spaß haben. Das freie S
 piel steht im Vordergrund. Nebenbei werden motorische Fähigkeiten geschult,
  alle Sinne gefördert und erste soziale Kontakte zu Gleichaltrigen gemacht.
 \nAuch die "Großen" können Erfahrungen austauschen und neue Kontakte knüpfe
 n.\n
X-ALT-DESC;FMTTYPE=text/html:<p style="box-sizing: border-box; margin-top: 0px; margin-bottom: 1rem; col
 or: #2b2b2b; font-family: Roboto; font-size: 16px;"><span class="text-prima
 ry font-weight-bold" style="box-sizing: border-box; font-weight: 700 !impor
 tant; color: #158795 !important;">Start:&nbsp;</span>09.09.2025</p><p style
 ="box-sizing: border-box; margin-top: 0px; margin-bottom: 1rem; color: #2b2
 b2b; font-family: Roboto; font-size: 16px;"><span class="text-primary font-
 weight-bold" style="box-sizing: border-box; font-weight: 700 !important; co
 lor: #158795 !important;">Mit:&nbsp;</span><a href="https://spielringel.at/
 angebote/das-team/mag-claudia-weissmann-karacsonyi" style="box-sizing: bord
 er-box; color: #158795; text-decoration-line: none; background-color: trans
 parent;">Claudia</a></p><p style="box-sizing: border-box; margin-top: 0px; 
 margin-bottom: 1rem; color: #2b2b2b; font-family: Roboto; font-size: 16px;"
 ><span class="text-primary font-weight-bold" style="box-sizing: border-box;
  font-weight: 700 !important; color: #158795 !important;">Kurstag:&nbsp;</s
 pan>Dienstag 09:00-10:00</p><p style="box-sizing: border-box; margin-top: 0
 px; margin-bottom: 1rem; color: #2b2b2b; font-family: Roboto; font-size: 16
 px;"><span class="text-primary font-weight-bold" style="box-sizing: border-
 box; font-weight: 700 !important; color: #158795 !important;">Termine:&nbsp
 ;</span>09.09., 16.09., 23.09., 30.09., 07.10.</p><p style="box-sizing: bor
 der-box; margin-top: 0px; margin-bottom: 1rem; color: #2b2b2b; font-family:
  Roboto; font-size: 16px;"><span class="text-primary font-weight-bold" styl
 e="box-sizing: border-box; font-weight: 700 !important; color: #158795 !imp
 ortant;">Kosten:&nbsp;</span>€90,- (5 Einheiten)</p><p style="box-sizing: b
 order-box; margin-top: 0px; margin-bottom: 1rem; color: #2b2b2b; font-famil
 y: Roboto; font-size: 16px;">In diesem Kurs sollen Kinder und Erwachsene ge
 meinsam viel Spaß haben. Das freie Spiel steht im Vordergrund. Nebenbei wer
 den motorische Fähigkeiten geschult, alle Sinne gefördert und erste soziale
  Kontakte zu Gleichaltrigen gemacht.</p><p style="box-sizing: border-box; m
 argin-top: 0px; margin-bottom: 0px; color: #2b2b2b; font-family: Roboto; fo
 nt-size: 16px;">Auch die "Großen" können Erfahrungen austauschen und neue K
 ontakte knüpfen.</p>
CONTACT:www.spielringel.at
X-EXTRAINFO:[preis='9000'][anmeldung='true']
DTSTAMP:20260426T015658
DTSTART:20250930T070000
DTEND:20250930T080000
SEQUENCE:0
TRANSP:OPAQUE
END:VEVENT
END:VCALENDAR