BEGIN:VCALENDAR
VERSION:2.0
PRODID:-//jEvents 2.0 for Joomla//EN
CALSCALE:GREGORIAN
METHOD:PUBLISH
BEGIN:VEVENT
UID:143bc1db5441da2d80b3e507d0755169
CATEGORIES:18. Bezirk
CREATED:20250728T143005
SUMMARY:MusikZwerge in Bewegung maxi 
LOCATION:Spielringel  Mollgasse  11-13
DESCRIPTION:MusikZwerge in Bewegung maxi für Laufanfänger:innen &amp; kleine Tänzer:inn
 en (ca. 14–30 Monate)Start: 08.09.2025\nMit: Susanne (https://spielringel.a
 t/angebote/das-team/susanne)\nKurstag: Montag 15:00-15:45\nTermine: 08.09.,
  15.09., 22.09., 06.10., 13.10.\nKosten: €90,- (5 Einheiten)\nMusikZwerge m
 axi – für Laufanfänger:innen  &amp; kleine Tänzer:innen (ca. 14–30 Monate) 
 Sobald die ersten Schritte sicher sind, wird die Welt noch spannender! In d
 iesem Kurs wird getanzt, gehüpft, geklatscht und gespielt. Mit altersgerech
 ten Bewegungsliedern, kleinen Tänzen und phantasievollen Spielen regen wir 
 nicht nur die Motorik an, sondern auch Kreativität, Sprache und soziales Mi
 teinander.\n
X-ALT-DESC;FMTTYPE=text/html:<h2 class="element-header" style="box-sizing: border-box; margin-top: 0px; 
 margin-bottom: 0.5rem; font-family: Montserrat; font-weight: 300; line-heig
 ht: 1.2; font-size: 2.275rem; color: #2b2b2b;">MusikZwerge in Bewegung maxi
 &nbsp;</h2><h4 style="box-sizing: border-box; margin-top: 0px; margin-botto
 m: 1rem; font-family: Montserrat; font-weight: 300; line-height: 1.2; font-
 size: 1.625rem; color: #2b2b2b;">für Laufanfänger:innen &amp; kleine Tänzer
 :innen (ca. 14–30 Monate)</h4><p style="box-sizing: border-box; margin-top:
  0px; margin-bottom: 1rem; color: #2b2b2b; font-family: Roboto; font-size: 
 16px;"><span class="text-primary font-weight-bold" style="box-sizing: borde
 r-box; font-weight: 700 !important; color: #158795 !important;">Start:&nbsp
 ;</span>08.09.2025</p><p style="box-sizing: border-box; margin-top: 0px; ma
 rgin-bottom: 1rem; color: #2b2b2b; font-family: Roboto; font-size: 16px;"><
 span class="text-primary font-weight-bold" style="box-sizing: border-box; f
 ont-weight: 700 !important; color: #158795 !important;">Mit:&nbsp;</span><a
  href="https://spielringel.at/angebote/das-team/susanne" style="box-sizing:
  border-box; color: #158795; text-decoration-line: none; background-color: 
 transparent;">Susanne</a></p><p style="box-sizing: border-box; margin-top: 
 0px; margin-bottom: 1rem; color: #2b2b2b; font-family: Roboto; font-size: 1
 6px;"><span class="text-primary font-weight-bold" style="box-sizing: border
 -box; font-weight: 700 !important; color: #158795 !important;">Kurstag:&nbs
 p;</span>Montag 15:00-15:45</p><p style="box-sizing: border-box; margin-top
 : 0px; margin-bottom: 1rem; color: #2b2b2b; font-family: Roboto; font-size:
  16px;"><span class="text-primary font-weight-bold" style="box-sizing: bord
 er-box; font-weight: 700 !important; color: #158795 !important;">Termine:&n
 bsp;</span>08.09., 15.09., 22.09., 06.10., 13.10.</p><p style="box-sizing: 
 border-box; margin-top: 0px; margin-bottom: 1rem; color: #2b2b2b; font-fami
 ly: Roboto; font-size: 16px;"><span class="text-primary font-weight-bold" s
 tyle="box-sizing: border-box; font-weight: 700 !important; color: #158795 !
 important;">Kosten:&nbsp;</span>€90,- (5 Einheiten)</p><p><span style="box-
 sizing: border-box; font-weight: bolder; color: #2b2b2b; font-family: Robot
 o; font-size: 16px;">MusikZwerge maxi – für Laufanfänger:innen &nbsp;&amp; 
 kleine Tänzer:innen&nbsp;</span><span style="color: #2b2b2b; font-family: R
 oboto; font-size: 16px;">(ca. 14–30 Monate) Sobald die ersten Schritte sich
 er sind, wird die Welt noch spannender! In diesem Kurs wird getanzt, gehüpf
 t, geklatscht und gespielt. Mit altersgerechten Bewegungsliedern, kleinen T
 änzen und phantasievollen Spielen regen wir nicht nur die Motorik an, sonde
 rn auch Kreativität, Sprache und soziales Miteinander.</span></p>
CONTACT:www.spielringel.at
X-EXTRAINFO:[preis='9000'][anmeldung='true']
DTSTAMP:20260426T033115
DTSTART:20251006T130000
DTEND:20251006T134500
SEQUENCE:0
TRANSP:OPAQUE
END:VEVENT
END:VCALENDAR