BEGIN:VCALENDAR
VERSION:2.0
PRODID:-//jEvents 2.0 for Joomla//EN
CALSCALE:GREGORIAN
METHOD:PUBLISH
BEGIN:VEVENT
UID:bf6a3711e357360fe734be3236f9f692
CATEGORIES:18. Bezirk
CREATED:20250901T094849
SUMMARY:MiniSigns 
LOCATION:Spielringel  Mollgasse  11-13
DESCRIPTION:MiniSigns für Eltern mit Babys und KleinkindernStart: 11.09.2025\nMit: Dori
 s (https://spielringel.at/angebote/das-team/mag-doris-zipper)\nKurstag: Don
 nerstag 11:00-12:00\nTermine: 11.09., 18.09., 25.09., 02.10., 09.10., 16.10
 ., 23.10., 06.11.\nKosten: €140,- (8 Termine)\nSpielerisch in Austausch mit
  deinem Baby kommen!Im Kurs erfährst du Interessantes über die kindliche Sp
 rachentwicklung und die Verwendung von Gebärden im Alltag. Du erlernst Gebä
 rden, die du mit deinem Kind verwenden kannst und vor allem hast du ganz vi
 el Spaß und lernst andere Familien kennen!\n
X-ALT-DESC;FMTTYPE=text/html:<h2 class="element-header" style="box-sizing: border-box; margin-top: 0px; 
 margin-bottom: 0.5rem; font-family: Montserrat; font-weight: 300; line-heig
 ht: 1.2; font-size: 2.275rem; color: #2b2b2b;">MiniSigns&nbsp;</h2><h4 styl
 e="box-sizing: border-box; margin-top: 0px; margin-bottom: 1rem; font-famil
 y: Montserrat; font-weight: 300; line-height: 1.2; font-size: 1.625rem; col
 or: #2b2b2b;">für Eltern mit Babys und Kleinkindern</h4><p style="box-sizin
 g: border-box; margin-top: 0px; margin-bottom: 1rem; color: #2b2b2b; font-f
 amily: Roboto; font-size: 16px;"><span class="text-primary font-weight-bold
 " style="box-sizing: border-box; font-weight: 700 !important; color: #15879
 5 !important;">Start:&nbsp;</span>11.09.2025</p><p style="box-sizing: borde
 r-box; margin-top: 0px; margin-bottom: 1rem; color: #2b2b2b; font-family: R
 oboto; font-size: 16px;"><span class="text-primary font-weight-bold" style=
 "box-sizing: border-box; font-weight: 700 !important; color: #158795 !impor
 tant;">Mit:&nbsp;</span><a href="https://spielringel.at/angebote/das-team/m
 ag-doris-zipper" style="box-sizing: border-box; color: #158795; text-decora
 tion-line: none; background-color: transparent;">Doris</a></p><p style="box
 -sizing: border-box; margin-top: 0px; margin-bottom: 1rem; color: #2b2b2b; 
 font-family: Roboto; font-size: 16px;"><span class="text-primary font-weigh
 t-bold" style="box-sizing: border-box; font-weight: 700 !important; color: 
 #158795 !important;">Kurstag:&nbsp;</span>Donnerstag 11:00-12:00</p><p styl
 e="box-sizing: border-box; margin-top: 0px; margin-bottom: 1rem; color: #2b
 2b2b; font-family: Roboto; font-size: 16px;"><span class="text-primary font
 -weight-bold" style="box-sizing: border-box; font-weight: 700 !important; c
 olor: #158795 !important;">Termine:&nbsp;</span>11.09., 18.09., 25.09., 02.
 10., 09.10., 16.10., 23.10., 06.11.</p><p style="box-sizing: border-box; ma
 rgin-top: 0px; margin-bottom: 1rem; color: #2b2b2b; font-family: Roboto; fo
 nt-size: 16px;"><span class="text-primary font-weight-bold" style="box-sizi
 ng: border-box; font-weight: 700 !important; color: #158795 !important;">Ko
 sten:&nbsp;</span>€140,- (8 Termine)</p><p style="box-sizing: border-box; m
 argin-top: 0px; margin-bottom: 0px; color: #2b2b2b; font-family: Roboto; fo
 nt-size: 16px;">Spielerisch in Austausch mit deinem Baby kommen!<br style="
 box-sizing: border-box;" />Im Kurs erfährst du Interessantes über die kindl
 iche Sprachentwicklung und die Verwendung von Gebärden im Alltag. Du erlern
 st Gebärden, die du mit deinem Kind verwenden kannst und vor allem hast du 
 ganz viel Spaß und lernst andere Familien kennen!</p>
CONTACT:www.spielringel.at
X-EXTRAINFO:[preis='14000'][anmeldung='true']
DTSTAMP:20260426T015653
DTSTART:20250911T090000
DTEND:20250911T100000
SEQUENCE:0
TRANSP:OPAQUE
END:VEVENT
END:VCALENDAR