BEGIN:VCALENDAR
VERSION:2.0
PRODID:-//jEvents 2.0 for Joomla//EN
CALSCALE:GREGORIAN
METHOD:PUBLISH
BEGIN:VEVENT
UID:ba7d511adfdd750d740c3bb7586ce19c
CATEGORIES:18. Bezirk
CREATED:20250903T135427
SUMMARY:Dynamic Mama-Baby Yoga
LOCATION:Ferrogasse 9/1 1180 Wien
DESCRIPTION:Welcome to our Dynamic Mama-Baby Yoga Class – a supportive and energizing s
 pace designed for mothers in later postpartum.\nAs your body has already be
 gun to heal and regain some strength, this class offers slightly more chall
 enging and dynamic exercises tailored to the postpartum body. We focus on r
 ebuilding strength in key areas such as the pelvic floor, core (including d
 iastasis recti), and back, to support you as you transition into a more act
 ive stage of motherhood.\nThis class is ideal for moms with babies who are 
 already mobile but not yet walking, and is open to all levels—no prior yoga
  experience necessary. We aim to create a warm, welcoming community where y
 ou can move, reconnect with your body, and connect with other moms.\nEach s
 ession includes:\n50 minutes of yoga and movement25 minutes of mama sharing
  at the endYou're also welcome to attend without your baby if you're a new 
 mom looking for a postpartum yoga experience tailored to this stage.\nPleas
 e consult your doctor before joining the class.\nNote: This class is taught
  in English.\n
X-ALT-DESC;FMTTYPE=text/html:<p style="box-sizing: border-box; border: 0px solid #e5e7eb; --tw-border-sp
 acing-x: 0; --tw-border-spacing-y: 0; --tw-translate-x: 0; --tw-translate-y
 : 0; --tw-rotate: 0; --tw-skew-x: 0; --tw-skew-y: 0; --tw-scale-x: 1; --tw-
 scale-y: 1; --tw-scroll-snap-strictness: proximity; --tw-ring-offset-width:
  0px; --tw-ring-offset-color: #fff; --tw-ring-color: rgb(59 130 246/0.5); -
 -tw-ring-offset-shadow: 0 0 #0000; --tw-ring-shadow: 0 0 #0000; --tw-shadow
 : 0 0 #0000; --tw-shadow-colored: 0 0 #0000; margin: 0px 0px 12px; color: #
 141414; font-family: ui-sans-serif, system-ui, sans-serif, 'Apple Color Emo
 ji', 'Segoe UI Emoji', 'Segoe UI Symbol', 'Noto Color Emoji'; font-size: me
 dium;"><span style="box-sizing: border-box; border: 0px solid #e5e7eb; --tw
 -border-spacing-x: 0; --tw-border-spacing-y: 0; --tw-translate-x: 0; --tw-t
 ranslate-y: 0; --tw-rotate: 0; --tw-skew-x: 0; --tw-skew-y: 0; --tw-scale-x
 : 1; --tw-scale-y: 1; --tw-scroll-snap-strictness: proximity; --tw-ring-off
 set-width: 0px; --tw-ring-offset-color: #fff; --tw-ring-color: rgb(59 130 2
 46/0.5); --tw-ring-offset-shadow: 0 0 #0000; --tw-ring-shadow: 0 0 #0000; -
 -tw-shadow: 0 0 #0000; --tw-shadow-colored: 0 0 #0000; font-weight: bold;">
 Welcome to our Dynamic Mama-Baby Yoga Class</span>&nbsp;– a supportive and 
 energizing space designed for mothers in later postpartum.</p><p style="box
 -sizing: border-box; border: 0px solid #e5e7eb; --tw-border-spacing-x: 0; -
 -tw-border-spacing-y: 0; --tw-translate-x: 0; --tw-translate-y: 0; --tw-rot
 ate: 0; --tw-skew-x: 0; --tw-skew-y: 0; --tw-scale-x: 1; --tw-scale-y: 1; -
 -tw-scroll-snap-strictness: proximity; --tw-ring-offset-width: 0px; --tw-ri
 ng-offset-color: #fff; --tw-ring-color: rgb(59 130 246/0.5); --tw-ring-offs
 et-shadow: 0 0 #0000; --tw-ring-shadow: 0 0 #0000; --tw-shadow: 0 0 #0000; 
 --tw-shadow-colored: 0 0 #0000; margin: 0px 0px 12px; color: #141414; font-
 family: ui-sans-serif, system-ui, sans-serif, 'Apple Color Emoji', 'Segoe U
 I Emoji', 'Segoe UI Symbol', 'Noto Color Emoji'; font-size: medium;">As you
 r body has already begun to heal and regain some strength, this class offer
 s slightly more&nbsp;<span style="box-sizing: border-box; border: 0px solid
  #e5e7eb; --tw-border-spacing-x: 0; --tw-border-spacing-y: 0; --tw-translat
 e-x: 0; --tw-translate-y: 0; --tw-rotate: 0; --tw-skew-x: 0; --tw-skew-y: 0
 ; --tw-scale-x: 1; --tw-scale-y: 1; --tw-scroll-snap-strictness: proximity;
  --tw-ring-offset-width: 0px; --tw-ring-offset-color: #fff; --tw-ring-color
 : rgb(59 130 246/0.5); --tw-ring-offset-shadow: 0 0 #0000; --tw-ring-shadow
 : 0 0 #0000; --tw-shadow: 0 0 #0000; --tw-shadow-colored: 0 0 #0000; font-w
 eight: bold;">challenging and dynamic exercises</span>&nbsp;tailored to the
  postpartum body. We focus on rebuilding strength in key areas such as the&
 nbsp;<span style="box-sizing: border-box; border: 0px solid #e5e7eb; --tw-b
 order-spacing-x: 0; --tw-border-spacing-y: 0; --tw-translate-x: 0; --tw-tra
 nslate-y: 0; --tw-rotate: 0; --tw-skew-x: 0; --tw-skew-y: 0; --tw-scale-x: 
 1; --tw-scale-y: 1; --tw-scroll-snap-strictness: proximity; --tw-ring-offse
 t-width: 0px; --tw-ring-offset-color: #fff; --tw-ring-color: rgb(59 130 246
 /0.5); --tw-ring-offset-shadow: 0 0 #0000; --tw-ring-shadow: 0 0 #0000; --t
 w-shadow: 0 0 #0000; --tw-shadow-colored: 0 0 #0000; font-weight: bold;">pe
 lvic floor</span>,&nbsp;<span style="box-sizing: border-box; border: 0px so
 lid #e5e7eb; --tw-border-spacing-x: 0; --tw-border-spacing-y: 0; --tw-trans
 late-x: 0; --tw-translate-y: 0; --tw-rotate: 0; --tw-skew-x: 0; --tw-skew-y
 : 0; --tw-scale-x: 1; --tw-scale-y: 1; --tw-scroll-snap-strictness: proximi
 ty; --tw-ring-offset-width: 0px; --tw-ring-offset-color: #fff; --tw-ring-co
 lor: rgb(59 130 246/0.5); --tw-ring-offset-shadow: 0 0 #0000; --tw-ring-sha
 dow: 0 0 #0000; --tw-shadow: 0 0 #0000; --tw-shadow-colored: 0 0 #0000; fon
 t-weight: bold;">core (including diastasis recti)</span>, and&nbsp;<span st
 yle="box-sizing: border-box; border: 0px solid #e5e7eb; --tw-border-spacing
 -x: 0; --tw-border-spacing-y: 0; --tw-translate-x: 0; --tw-translate-y: 0; 
 --tw-rotate: 0; --tw-skew-x: 0; --tw-skew-y: 0; --tw-scale-x: 1; --tw-scale
 -y: 1; --tw-scroll-snap-strictness: proximity; --tw-ring-offset-width: 0px;
  --tw-ring-offset-color: #fff; --tw-ring-color: rgb(59 130 246/0.5); --tw-r
 ing-offset-shadow: 0 0 #0000; --tw-ring-shadow: 0 0 #0000; --tw-shadow: 0 0
  #0000; --tw-shadow-colored: 0 0 #0000; font-weight: bold;">back</span>, to
  support you as you transition into a more active stage of motherhood.</p><
 p style="box-sizing: border-box; border: 0px solid #e5e7eb; --tw-border-spa
 cing-x: 0; --tw-border-spacing-y: 0; --tw-translate-x: 0; --tw-translate-y:
  0; --tw-rotate: 0; --tw-skew-x: 0; --tw-skew-y: 0; --tw-scale-x: 1; --tw-s
 cale-y: 1; --tw-scroll-snap-strictness: proximity; --tw-ring-offset-width: 
 0px; --tw-ring-offset-color: #fff; --tw-ring-color: rgb(59 130 246/0.5); --
 tw-ring-offset-shadow: 0 0 #0000; --tw-ring-shadow: 0 0 #0000; --tw-shadow:
  0 0 #0000; --tw-shadow-colored: 0 0 #0000; margin: 0px 0px 12px; color: #1
 41414; font-family: ui-sans-serif, system-ui, sans-serif, 'Apple Color Emoj
 i', 'Segoe UI Emoji', 'Segoe UI Symbol', 'Noto Color Emoji'; font-size: med
 ium;">This class is ideal for moms with babies who are already&nbsp;<span s
 tyle="box-sizing: border-box; border: 0px solid #e5e7eb; --tw-border-spacin
 g-x: 0; --tw-border-spacing-y: 0; --tw-translate-x: 0; --tw-translate-y: 0;
  --tw-rotate: 0; --tw-skew-x: 0; --tw-skew-y: 0; --tw-scale-x: 1; --tw-scal
 e-y: 1; --tw-scroll-snap-strictness: proximity; --tw-ring-offset-width: 0px
 ; --tw-ring-offset-color: #fff; --tw-ring-color: rgb(59 130 246/0.5); --tw-
 ring-offset-shadow: 0 0 #0000; --tw-ring-shadow: 0 0 #0000; --tw-shadow: 0 
 0 #0000; --tw-shadow-colored: 0 0 #0000; font-weight: bold;">mobile but not
  yet walking</span>, and is open to all levels—<span style="box-sizing: bor
 der-box; border: 0px solid #e5e7eb; --tw-border-spacing-x: 0; --tw-border-s
 pacing-y: 0; --tw-translate-x: 0; --tw-translate-y: 0; --tw-rotate: 0; --tw
 -skew-x: 0; --tw-skew-y: 0; --tw-scale-x: 1; --tw-scale-y: 1; --tw-scroll-s
 nap-strictness: proximity; --tw-ring-offset-width: 0px; --tw-ring-offset-co
 lor: #fff; --tw-ring-color: rgb(59 130 246/0.5); --tw-ring-offset-shadow: 0
  0 #0000; --tw-ring-shadow: 0 0 #0000; --tw-shadow: 0 0 #0000; --tw-shadow-
 colored: 0 0 #0000; font-weight: bold;">no prior yoga experience necessary<
 /span>. We aim to create a warm, welcoming community where you can move, re
 connect with your body, and connect with other moms.</p><p style="box-sizin
 g: border-box; border: 0px solid #e5e7eb; --tw-border-spacing-x: 0; --tw-bo
 rder-spacing-y: 0; --tw-translate-x: 0; --tw-translate-y: 0; --tw-rotate: 0
 ; --tw-skew-x: 0; --tw-skew-y: 0; --tw-scale-x: 1; --tw-scale-y: 1; --tw-sc
 roll-snap-strictness: proximity; --tw-ring-offset-width: 0px; --tw-ring-off
 set-color: #fff; --tw-ring-color: rgb(59 130 246/0.5); --tw-ring-offset-sha
 dow: 0 0 #0000; --tw-ring-shadow: 0 0 #0000; --tw-shadow: 0 0 #0000; --tw-s
 hadow-colored: 0 0 #0000; margin: 0px 0px 12px; color: #141414; font-family
 : ui-sans-serif, system-ui, sans-serif, 'Apple Color Emoji', 'Segoe UI Emoj
 i', 'Segoe UI Symbol', 'Noto Color Emoji'; font-size: medium;">Each session
  includes:</p><ul style="box-sizing: border-box; border: 0px solid #e5e7eb;
  --tw-border-spacing-x: 0; --tw-border-spacing-y: 0; --tw-translate-x: 0; -
 -tw-translate-y: 0; --tw-rotate: 0; --tw-skew-x: 0; --tw-skew-y: 0; --tw-sc
 ale-x: 1; --tw-scale-y: 1; --tw-scroll-snap-strictness: proximity; --tw-rin
 g-offset-width: 0px; --tw-ring-offset-color: #fff; --tw-ring-color: rgb(59 
 130 246/0.5); --tw-ring-offset-shadow: 0 0 #0000; --tw-ring-shadow: 0 0 #00
 00; --tw-shadow: 0 0 #0000; --tw-shadow-colored: 0 0 #0000; list-style: ins
 ide; margin: 0px 0px 12px 24px; padding: 0px; color: #141414; font-family: 
 ui-sans-serif, system-ui, sans-serif, 'Apple Color Emoji', 'Segoe UI Emoji'
 , 'Segoe UI Symbol', 'Noto Color Emoji'; font-size: medium;"><li style="box
 -sizing: border-box; border: 0px solid #e5e7eb; --tw-border-spacing-x: 0; -
 -tw-border-spacing-y: 0; --tw-translate-x: 0; --tw-translate-y: 0; --tw-rot
 ate: 0; --tw-skew-x: 0; --tw-skew-y: 0; --tw-scale-x: 1; --tw-scale-y: 1; -
 -tw-scroll-snap-strictness: proximity; --tw-ring-offset-width: 0px; --tw-ri
 ng-offset-color: #fff; --tw-ring-color: rgb(59 130 246/0.5); --tw-ring-offs
 et-shadow: 0 0 #0000; --tw-ring-shadow: 0 0 #0000; --tw-shadow: 0 0 #0000; 
 --tw-shadow-colored: 0 0 #0000; line-height: 1.5rem;"><span style="box-sizi
 ng: border-box; border: 0px solid #e5e7eb; --tw-border-spacing-x: 0; --tw-b
 order-spacing-y: 0; --tw-translate-x: 0; --tw-translate-y: 0; --tw-rotate: 
 0; --tw-skew-x: 0; --tw-skew-y: 0; --tw-scale-x: 1; --tw-scale-y: 1; --tw-s
 croll-snap-strictness: proximity; --tw-ring-offset-width: 0px; --tw-ring-of
 fset-color: #fff; --tw-ring-color: rgb(59 130 246/0.5); --tw-ring-offset-sh
 adow: 0 0 #0000; --tw-ring-shadow: 0 0 #0000; --tw-shadow: 0 0 #0000; --tw-
 shadow-colored: 0 0 #0000; font-weight: bold;">50 minutes of yoga and movem
 ent</span></li><li style="box-sizing: border-box; border: 0px solid #e5e7eb
 ; --tw-border-spacing-x: 0; --tw-border-spacing-y: 0; --tw-translate-x: 0; 
 --tw-translate-y: 0; --tw-rotate: 0; --tw-skew-x: 0; --tw-skew-y: 0; --tw-s
 cale-x: 1; --tw-scale-y: 1; --tw-scroll-snap-strictness: proximity; --tw-ri
 ng-offset-width: 0px; --tw-ring-offset-color: #fff; --tw-ring-color: rgb(59
  130 246/0.5); --tw-ring-offset-shadow: 0 0 #0000; --tw-ring-shadow: 0 0 #0
 000; --tw-shadow: 0 0 #0000; --tw-shadow-colored: 0 0 #0000; line-height: 1
 .5rem;"><span style="box-sizing: border-box; border: 0px solid #e5e7eb; --t
 w-border-spacing-x: 0; --tw-border-spacing-y: 0; --tw-translate-x: 0; --tw-
 translate-y: 0; --tw-rotate: 0; --tw-skew-x: 0; --tw-skew-y: 0; --tw-scale-
 x: 1; --tw-scale-y: 1; --tw-scroll-snap-strictness: proximity; --tw-ring-of
 fset-width: 0px; --tw-ring-offset-color: #fff; --tw-ring-color: rgb(59 130 
 246/0.5); --tw-ring-offset-shadow: 0 0 #0000; --tw-ring-shadow: 0 0 #0000; 
 --tw-shadow: 0 0 #0000; --tw-shadow-colored: 0 0 #0000; font-weight: bold;"
 >25 minutes of mama sharing</span>&nbsp;at the end</li></ul><p style="box-s
 izing: border-box; border: 0px solid #e5e7eb; --tw-border-spacing-x: 0; --t
 w-border-spacing-y: 0; --tw-translate-x: 0; --tw-translate-y: 0; --tw-rotat
 e: 0; --tw-skew-x: 0; --tw-skew-y: 0; --tw-scale-x: 1; --tw-scale-y: 1; --t
 w-scroll-snap-strictness: proximity; --tw-ring-offset-width: 0px; --tw-ring
 -offset-color: #fff; --tw-ring-color: rgb(59 130 246/0.5); --tw-ring-offset
 -shadow: 0 0 #0000; --tw-ring-shadow: 0 0 #0000; --tw-shadow: 0 0 #0000; --
 tw-shadow-colored: 0 0 #0000; margin: 0px 0px 12px; color: #141414; font-fa
 mily: ui-sans-serif, system-ui, sans-serif, 'Apple Color Emoji', 'Segoe UI 
 Emoji', 'Segoe UI Symbol', 'Noto Color Emoji'; font-size: medium;">You're a
 lso welcome to attend&nbsp;<span style="box-sizing: border-box; border: 0px
  solid #e5e7eb; --tw-border-spacing-x: 0; --tw-border-spacing-y: 0; --tw-tr
 anslate-x: 0; --tw-translate-y: 0; --tw-rotate: 0; --tw-skew-x: 0; --tw-ske
 w-y: 0; --tw-scale-x: 1; --tw-scale-y: 1; --tw-scroll-snap-strictness: prox
 imity; --tw-ring-offset-width: 0px; --tw-ring-offset-color: #fff; --tw-ring
 -color: rgb(59 130 246/0.5); --tw-ring-offset-shadow: 0 0 #0000; --tw-ring-
 shadow: 0 0 #0000; --tw-shadow: 0 0 #0000; --tw-shadow-colored: 0 0 #0000; 
 font-weight: bold;">without your baby</span>&nbsp;if you're a new mom looki
 ng for a postpartum yoga experience tailored to this stage.</p><p style="bo
 x-sizing: border-box; border: 0px solid #e5e7eb; --tw-border-spacing-x: 0; 
 --tw-border-spacing-y: 0; --tw-translate-x: 0; --tw-translate-y: 0; --tw-ro
 tate: 0; --tw-skew-x: 0; --tw-skew-y: 0; --tw-scale-x: 1; --tw-scale-y: 1; 
 --tw-scroll-snap-strictness: proximity; --tw-ring-offset-width: 0px; --tw-r
 ing-offset-color: #fff; --tw-ring-color: rgb(59 130 246/0.5); --tw-ring-off
 set-shadow: 0 0 #0000; --tw-ring-shadow: 0 0 #0000; --tw-shadow: 0 0 #0000;
  --tw-shadow-colored: 0 0 #0000; margin: 0px 0px 12px; color: #141414; font
 -family: ui-sans-serif, system-ui, sans-serif, 'Apple Color Emoji', 'Segoe 
 UI Emoji', 'Segoe UI Symbol', 'Noto Color Emoji'; font-size: medium;">Pleas
 e consult your doctor before joining the class.</p><p style="box-sizing: bo
 rder-box; border: 0px solid #e5e7eb; --tw-border-spacing-x: 0; --tw-border-
 spacing-y: 0; --tw-translate-x: 0; --tw-translate-y: 0; --tw-rotate: 0; --t
 w-skew-x: 0; --tw-skew-y: 0; --tw-scale-x: 1; --tw-scale-y: 1; --tw-scroll-
 snap-strictness: proximity; --tw-ring-offset-width: 0px; --tw-ring-offset-c
 olor: #fff; --tw-ring-color: rgb(59 130 246/0.5); --tw-ring-offset-shadow: 
 0 0 #0000; --tw-ring-shadow: 0 0 #0000; --tw-shadow: 0 0 #0000; --tw-shadow
 -colored: 0 0 #0000; margin: 0px 0px 12px; color: #141414; font-family: ui-
 sans-serif, system-ui, sans-serif, 'Apple Color Emoji', 'Segoe UI Emoji', '
 Segoe UI Symbol', 'Noto Color Emoji'; font-size: medium;"><span style="box-
 sizing: border-box; border: 0px solid #e5e7eb; --tw-border-spacing-x: 0; --
 tw-border-spacing-y: 0; --tw-translate-x: 0; --tw-translate-y: 0; --tw-rota
 te: 0; --tw-skew-x: 0; --tw-skew-y: 0; --tw-scale-x: 1; --tw-scale-y: 1; --
 tw-scroll-snap-strictness: proximity; --tw-ring-offset-width: 0px; --tw-rin
 g-offset-color: #fff; --tw-ring-color: rgb(59 130 246/0.5); --tw-ring-offse
 t-shadow: 0 0 #0000; --tw-ring-shadow: 0 0 #0000; --tw-shadow: 0 0 #0000; -
 -tw-shadow-colored: 0 0 #0000; font-weight: bold;">Note:</span>&nbsp;This c
 lass is taught in English.</p>
CONTACT:https://www.beyourmuse.at/stundenplan
X-EXTRAINFO:[preis='2000'][anmeldung='true']
DTSTAMP:20260426T021536
DTSTART:20250929T073000
DTEND:20250929T084500
SEQUENCE:0
TRANSP:OPAQUE
END:VEVENT
END:VCALENDAR