BEGIN:VCALENDAR
VERSION:2.0
PRODID:-//jEvents 2.0 for Joomla//EN
CALSCALE:GREGORIAN
METHOD:PUBLISH
BEGIN:VEVENT
UID:047d84b4c0e9d7154f1a276e41bdb36a
CATEGORIES:18. Bezirk
CREATED:20250903T135753
SUMMARY:Sanftes Mama-Baby Yoga
LOCATION:Ferrogasse 9/1 1180 Wien
DESCRIPTION:Welcome to our Gentle Mama-Baby Yoga Class – a nurturing space designed esp
 ecially for mothers in the earlier postpartum months to move, heal, and con
 nect, together with their babies.\nThis class is recommended for moms in th
 e early postpartum period and is most suitable for babies in their first mo
 nths, up to around 7 months old or until they become very mobile. Our focus
  is on gentle, healing movement tailored to the postpartum body—supporting 
 recovery, stabilization, and a gradual return of strength and energy.\nWe c
 reate a calm, caring, and playful environment where you and your baby can f
 eel comfortable, relaxed, and at ease. Whether your baby is resting, feedin
 g, or in your arms, you are welcome just as you are.\nNo prior yoga experie
 nce is needed—this class is open to all levels. You’ll also have the opport
 unity to connect with other new moms in our community.\nEach session includ
 es:\n50 minutes of yoga and movement25 minutes of mama sharing at the endYo
 u're also welcome to join without your baby if you are a new mom looking fo
 r a supportive postpartum yoga experience.\nPlease get clearance from your 
 doctor before joining the class.\nNote: This class is taught in English.\n
X-ALT-DESC;FMTTYPE=text/html:<p style="box-sizing: border-box; border: 0px solid #e5e7eb; --tw-border-sp
 acing-x: 0; --tw-border-spacing-y: 0; --tw-translate-x: 0; --tw-translate-y
 : 0; --tw-rotate: 0; --tw-skew-x: 0; --tw-skew-y: 0; --tw-scale-x: 1; --tw-
 scale-y: 1; --tw-scroll-snap-strictness: proximity; --tw-ring-offset-width:
  0px; --tw-ring-offset-color: #fff; --tw-ring-color: rgb(59 130 246/0.5); -
 -tw-ring-offset-shadow: 0 0 #0000; --tw-ring-shadow: 0 0 #0000; --tw-shadow
 : 0 0 #0000; --tw-shadow-colored: 0 0 #0000; margin: 0px 0px 12px; color: #
 141414; font-family: ui-sans-serif, system-ui, sans-serif, 'Apple Color Emo
 ji', 'Segoe UI Emoji', 'Segoe UI Symbol', 'Noto Color Emoji'; font-size: me
 dium;"><span style="box-sizing: border-box; border: 0px solid #e5e7eb; --tw
 -border-spacing-x: 0; --tw-border-spacing-y: 0; --tw-translate-x: 0; --tw-t
 ranslate-y: 0; --tw-rotate: 0; --tw-skew-x: 0; --tw-skew-y: 0; --tw-scale-x
 : 1; --tw-scale-y: 1; --tw-scroll-snap-strictness: proximity; --tw-ring-off
 set-width: 0px; --tw-ring-offset-color: #fff; --tw-ring-color: rgb(59 130 2
 46/0.5); --tw-ring-offset-shadow: 0 0 #0000; --tw-ring-shadow: 0 0 #0000; -
 -tw-shadow: 0 0 #0000; --tw-shadow-colored: 0 0 #0000; font-weight: bold;">
 Welcome to our Gentle Mama-Baby Yoga Class</span>&nbsp;– a nurturing space 
 designed especially for mothers in the earlier postpartum months to move, h
 eal, and connect, together with their babies.</p><p style="box-sizing: bord
 er-box; border: 0px solid #e5e7eb; --tw-border-spacing-x: 0; --tw-border-sp
 acing-y: 0; --tw-translate-x: 0; --tw-translate-y: 0; --tw-rotate: 0; --tw-
 skew-x: 0; --tw-skew-y: 0; --tw-scale-x: 1; --tw-scale-y: 1; --tw-scroll-sn
 ap-strictness: proximity; --tw-ring-offset-width: 0px; --tw-ring-offset-col
 or: #fff; --tw-ring-color: rgb(59 130 246/0.5); --tw-ring-offset-shadow: 0 
 0 #0000; --tw-ring-shadow: 0 0 #0000; --tw-shadow: 0 0 #0000; --tw-shadow-c
 olored: 0 0 #0000; margin: 0px 0px 12px; color: #141414; font-family: ui-sa
 ns-serif, system-ui, sans-serif, 'Apple Color Emoji', 'Segoe UI Emoji', 'Se
 goe UI Symbol', 'Noto Color Emoji'; font-size: medium;">This class is recom
 mended for moms in the early postpartum period and is most suitable for bab
 ies in their first months, up to around 7 months old or until they become v
 ery mobile. Our focus is on gentle, healing movement tailored to the postpa
 rtum body—supporting recovery, stabilization, and a gradual return of stren
 gth and energy.</p><p style="box-sizing: border-box; border: 0px solid #e5e
 7eb; --tw-border-spacing-x: 0; --tw-border-spacing-y: 0; --tw-translate-x: 
 0; --tw-translate-y: 0; --tw-rotate: 0; --tw-skew-x: 0; --tw-skew-y: 0; --t
 w-scale-x: 1; --tw-scale-y: 1; --tw-scroll-snap-strictness: proximity; --tw
 -ring-offset-width: 0px; --tw-ring-offset-color: #fff; --tw-ring-color: rgb
 (59 130 246/0.5); --tw-ring-offset-shadow: 0 0 #0000; --tw-ring-shadow: 0 0
  #0000; --tw-shadow: 0 0 #0000; --tw-shadow-colored: 0 0 #0000; margin: 0px
  0px 12px; color: #141414; font-family: ui-sans-serif, system-ui, sans-seri
 f, 'Apple Color Emoji', 'Segoe UI Emoji', 'Segoe UI Symbol', 'Noto Color Em
 oji'; font-size: medium;">We create a calm, caring, and playful environment
  where you and your baby can feel comfortable, relaxed, and at ease. Whethe
 r your baby is resting, feeding, or in your arms, you are welcome just as y
 ou are.</p><p style="box-sizing: border-box; border: 0px solid #e5e7eb; --t
 w-border-spacing-x: 0; --tw-border-spacing-y: 0; --tw-translate-x: 0; --tw-
 translate-y: 0; --tw-rotate: 0; --tw-skew-x: 0; --tw-skew-y: 0; --tw-scale-
 x: 1; --tw-scale-y: 1; --tw-scroll-snap-strictness: proximity; --tw-ring-of
 fset-width: 0px; --tw-ring-offset-color: #fff; --tw-ring-color: rgb(59 130 
 246/0.5); --tw-ring-offset-shadow: 0 0 #0000; --tw-ring-shadow: 0 0 #0000; 
 --tw-shadow: 0 0 #0000; --tw-shadow-colored: 0 0 #0000; margin: 0px 0px 12p
 x; color: #141414; font-family: ui-sans-serif, system-ui, sans-serif, 'Appl
 e Color Emoji', 'Segoe UI Emoji', 'Segoe UI Symbol', 'Noto Color Emoji'; fo
 nt-size: medium;">No prior yoga experience is needed—this class is open to 
 all levels. You’ll also have the opportunity to connect with other new moms
  in our community.</p><p style="box-sizing: border-box; border: 0px solid #
 e5e7eb; --tw-border-spacing-x: 0; --tw-border-spacing-y: 0; --tw-translate-
 x: 0; --tw-translate-y: 0; --tw-rotate: 0; --tw-skew-x: 0; --tw-skew-y: 0; 
 --tw-scale-x: 1; --tw-scale-y: 1; --tw-scroll-snap-strictness: proximity; -
 -tw-ring-offset-width: 0px; --tw-ring-offset-color: #fff; --tw-ring-color: 
 rgb(59 130 246/0.5); --tw-ring-offset-shadow: 0 0 #0000; --tw-ring-shadow: 
 0 0 #0000; --tw-shadow: 0 0 #0000; --tw-shadow-colored: 0 0 #0000; margin: 
 0px 0px 12px; color: #141414; font-family: ui-sans-serif, system-ui, sans-s
 erif, 'Apple Color Emoji', 'Segoe UI Emoji', 'Segoe UI Symbol', 'Noto Color
  Emoji'; font-size: medium;">Each session includes:</p><ul style="box-sizin
 g: border-box; border: 0px solid #e5e7eb; --tw-border-spacing-x: 0; --tw-bo
 rder-spacing-y: 0; --tw-translate-x: 0; --tw-translate-y: 0; --tw-rotate: 0
 ; --tw-skew-x: 0; --tw-skew-y: 0; --tw-scale-x: 1; --tw-scale-y: 1; --tw-sc
 roll-snap-strictness: proximity; --tw-ring-offset-width: 0px; --tw-ring-off
 set-color: #fff; --tw-ring-color: rgb(59 130 246/0.5); --tw-ring-offset-sha
 dow: 0 0 #0000; --tw-ring-shadow: 0 0 #0000; --tw-shadow: 0 0 #0000; --tw-s
 hadow-colored: 0 0 #0000; list-style: inside; margin: 0px 0px 12px 24px; pa
 dding: 0px; color: #141414; font-family: ui-sans-serif, system-ui, sans-ser
 if, 'Apple Color Emoji', 'Segoe UI Emoji', 'Segoe UI Symbol', 'Noto Color E
 moji'; font-size: medium;"><li style="box-sizing: border-box; border: 0px s
 olid #e5e7eb; --tw-border-spacing-x: 0; --tw-border-spacing-y: 0; --tw-tran
 slate-x: 0; --tw-translate-y: 0; --tw-rotate: 0; --tw-skew-x: 0; --tw-skew-
 y: 0; --tw-scale-x: 1; --tw-scale-y: 1; --tw-scroll-snap-strictness: proxim
 ity; --tw-ring-offset-width: 0px; --tw-ring-offset-color: #fff; --tw-ring-c
 olor: rgb(59 130 246/0.5); --tw-ring-offset-shadow: 0 0 #0000; --tw-ring-sh
 adow: 0 0 #0000; --tw-shadow: 0 0 #0000; --tw-shadow-colored: 0 0 #0000; li
 ne-height: 1.5rem;"><span style="box-sizing: border-box; border: 0px solid 
 #e5e7eb; --tw-border-spacing-x: 0; --tw-border-spacing-y: 0; --tw-translate
 -x: 0; --tw-translate-y: 0; --tw-rotate: 0; --tw-skew-x: 0; --tw-skew-y: 0;
  --tw-scale-x: 1; --tw-scale-y: 1; --tw-scroll-snap-strictness: proximity; 
 --tw-ring-offset-width: 0px; --tw-ring-offset-color: #fff; --tw-ring-color:
  rgb(59 130 246/0.5); --tw-ring-offset-shadow: 0 0 #0000; --tw-ring-shadow:
  0 0 #0000; --tw-shadow: 0 0 #0000; --tw-shadow-colored: 0 0 #0000; font-we
 ight: bold;">50 minutes of yoga and movement</span></li><li style="box-sizi
 ng: border-box; border: 0px solid #e5e7eb; --tw-border-spacing-x: 0; --tw-b
 order-spacing-y: 0; --tw-translate-x: 0; --tw-translate-y: 0; --tw-rotate: 
 0; --tw-skew-x: 0; --tw-skew-y: 0; --tw-scale-x: 1; --tw-scale-y: 1; --tw-s
 croll-snap-strictness: proximity; --tw-ring-offset-width: 0px; --tw-ring-of
 fset-color: #fff; --tw-ring-color: rgb(59 130 246/0.5); --tw-ring-offset-sh
 adow: 0 0 #0000; --tw-ring-shadow: 0 0 #0000; --tw-shadow: 0 0 #0000; --tw-
 shadow-colored: 0 0 #0000; line-height: 1.5rem;"><span style="box-sizing: b
 order-box; border: 0px solid #e5e7eb; --tw-border-spacing-x: 0; --tw-border
 -spacing-y: 0; --tw-translate-x: 0; --tw-translate-y: 0; --tw-rotate: 0; --
 tw-skew-x: 0; --tw-skew-y: 0; --tw-scale-x: 1; --tw-scale-y: 1; --tw-scroll
 -snap-strictness: proximity; --tw-ring-offset-width: 0px; --tw-ring-offset-
 color: #fff; --tw-ring-color: rgb(59 130 246/0.5); --tw-ring-offset-shadow:
  0 0 #0000; --tw-ring-shadow: 0 0 #0000; --tw-shadow: 0 0 #0000; --tw-shado
 w-colored: 0 0 #0000; font-weight: bold;">25 minutes of mama sharing</span>
 &nbsp;at the end</li></ul><p style="box-sizing: border-box; border: 0px sol
 id #e5e7eb; --tw-border-spacing-x: 0; --tw-border-spacing-y: 0; --tw-transl
 ate-x: 0; --tw-translate-y: 0; --tw-rotate: 0; --tw-skew-x: 0; --tw-skew-y:
  0; --tw-scale-x: 1; --tw-scale-y: 1; --tw-scroll-snap-strictness: proximit
 y; --tw-ring-offset-width: 0px; --tw-ring-offset-color: #fff; --tw-ring-col
 or: rgb(59 130 246/0.5); --tw-ring-offset-shadow: 0 0 #0000; --tw-ring-shad
 ow: 0 0 #0000; --tw-shadow: 0 0 #0000; --tw-shadow-colored: 0 0 #0000; marg
 in: 0px 0px 12px; color: #141414; font-family: ui-sans-serif, system-ui, sa
 ns-serif, 'Apple Color Emoji', 'Segoe UI Emoji', 'Segoe UI Symbol', 'Noto C
 olor Emoji'; font-size: medium;">You're also welcome to join without your b
 aby if you are a new mom looking for a supportive postpartum yoga experienc
 e.</p><p style="box-sizing: border-box; border: 0px solid #e5e7eb; --tw-bor
 der-spacing-x: 0; --tw-border-spacing-y: 0; --tw-translate-x: 0; --tw-trans
 late-y: 0; --tw-rotate: 0; --tw-skew-x: 0; --tw-skew-y: 0; --tw-scale-x: 1;
  --tw-scale-y: 1; --tw-scroll-snap-strictness: proximity; --tw-ring-offset-
 width: 0px; --tw-ring-offset-color: #fff; --tw-ring-color: rgb(59 130 246/0
 .5); --tw-ring-offset-shadow: 0 0 #0000; --tw-ring-shadow: 0 0 #0000; --tw-
 shadow: 0 0 #0000; --tw-shadow-colored: 0 0 #0000; margin: 0px 0px 12px; co
 lor: #141414; font-family: ui-sans-serif, system-ui, sans-serif, 'Apple Col
 or Emoji', 'Segoe UI Emoji', 'Segoe UI Symbol', 'Noto Color Emoji'; font-si
 ze: medium;">Please get clearance from your doctor before joining the class
 .</p><p style="box-sizing: border-box; border: 0px solid #e5e7eb; --tw-bord
 er-spacing-x: 0; --tw-border-spacing-y: 0; --tw-translate-x: 0; --tw-transl
 ate-y: 0; --tw-rotate: 0; --tw-skew-x: 0; --tw-skew-y: 0; --tw-scale-x: 1; 
 --tw-scale-y: 1; --tw-scroll-snap-strictness: proximity; --tw-ring-offset-w
 idth: 0px; --tw-ring-offset-color: #fff; --tw-ring-color: rgb(59 130 246/0.
 5); --tw-ring-offset-shadow: 0 0 #0000; --tw-ring-shadow: 0 0 #0000; --tw-s
 hadow: 0 0 #0000; --tw-shadow-colored: 0 0 #0000; margin: 0px 0px 12px; col
 or: #141414; font-family: ui-sans-serif, system-ui, sans-serif, 'Apple Colo
 r Emoji', 'Segoe UI Emoji', 'Segoe UI Symbol', 'Noto Color Emoji'; font-siz
 e: medium;"><span style="box-sizing: border-box; border: 0px solid #e5e7eb;
  --tw-border-spacing-x: 0; --tw-border-spacing-y: 0; --tw-translate-x: 0; -
 -tw-translate-y: 0; --tw-rotate: 0; --tw-skew-x: 0; --tw-skew-y: 0; --tw-sc
 ale-x: 1; --tw-scale-y: 1; --tw-scroll-snap-strictness: proximity; --tw-rin
 g-offset-width: 0px; --tw-ring-offset-color: #fff; --tw-ring-color: rgb(59 
 130 246/0.5); --tw-ring-offset-shadow: 0 0 #0000; --tw-ring-shadow: 0 0 #00
 00; --tw-shadow: 0 0 #0000; --tw-shadow-colored: 0 0 #0000; font-weight: bo
 ld;">Note:</span>&nbsp;This class is taught in English.</p>
CONTACT:https://www.beyourmuse.at/stundenplan
X-EXTRAINFO:[preis='2000'][anmeldung='true']
DTSTAMP:20260426T015829
DTSTART:20250922T090000
DTEND:20250922T101500
SEQUENCE:0
TRANSP:OPAQUE
END:VEVENT
END:VCALENDAR