BEGIN:VCALENDAR
VERSION:2.0
PRODID:-//jEvents 2.0 for Joomla//EN
CALSCALE:GREGORIAN
METHOD:PUBLISH
BEGIN:VEVENT
UID:8fa5f3ac05da887b6a5b256a785a71ae
CATEGORIES:18. Bezirk
CREATED:20250903T140119
SUMMARY:Beckenboden-Yoga
LOCATION:Ferrogasse 9/1 1180 Wien
DESCRIPTION:Beckenboden-Yoga verbindet sanftes Hatha Yoga und tief entspannendes Yin Yo
 ga mit einem besonderen Fokus auf Beckenbodenwahrnehmung.\nDiese Praxis unt
 erstützt dich dabei, loszulassen, dich zu erden, Kraft aufzubauen – und in 
 einem sicheren Raum wieder mehr Verbindung zu deinem Körper zu finden.\nDer
  Kurs richtet sich an Frauen, die ihren Beckenboden achtsam erforschen, stä
 rken und entspannen möchten. Es sind keine Vorkenntnisse notwendig.\nDa die
  Übungen nicht auf die besonderen Bedürfnisse in der Schwangerschaft abgest
 immt sind, richtet sich dieser Kurs ausschließlich an nicht-schwangere Frau
 en.\nNeben klassischen Yoga-Haltungen liegt der Fokus auf gezielten Beckenb
 oden-Übungen - Mobilisation des Beckens, bewusstes Ansteuern, Anspannen und
  Entspannen der Beckenbodenmuskulatur.Gearbeitet wird mit unterstützenden i
 nneren Bildern, Atemtechniken, Tönen und unterschiedlichen Positionen – ste
 ts mit viel Achtsamkeit.\nDu befindest dich noch in der Rückbildungszeit? -
  Bitte hole dir vorher das OK von deiner Ärztin oder deinem Arzt zur Teilna
 hme am Kurs.\nHinweis: Dieser Kurs wird auf Deutsch unterrichet.\n
X-ALT-DESC;FMTTYPE=text/html:<p style="box-sizing: border-box; border: 0px solid #e5e7eb; --tw-border-sp
 acing-x: 0; --tw-border-spacing-y: 0; --tw-translate-x: 0; --tw-translate-y
 : 0; --tw-rotate: 0; --tw-skew-x: 0; --tw-skew-y: 0; --tw-scale-x: 1; --tw-
 scale-y: 1; --tw-scroll-snap-strictness: proximity; --tw-ring-offset-width:
  0px; --tw-ring-offset-color: #fff; --tw-ring-color: rgb(59 130 246/0.5); -
 -tw-ring-offset-shadow: 0 0 #0000; --tw-ring-shadow: 0 0 #0000; --tw-shadow
 : 0 0 #0000; --tw-shadow-colored: 0 0 #0000; margin: 0px 0px 12px; color: #
 141414; font-family: ui-sans-serif, system-ui, sans-serif, 'Apple Color Emo
 ji', 'Segoe UI Emoji', 'Segoe UI Symbol', 'Noto Color Emoji'; font-size: me
 dium;"><span style="box-sizing: border-box; border: 0px solid #e5e7eb; --tw
 -border-spacing-x: 0; --tw-border-spacing-y: 0; --tw-translate-x: 0; --tw-t
 ranslate-y: 0; --tw-rotate: 0; --tw-skew-x: 0; --tw-skew-y: 0; --tw-scale-x
 : 1; --tw-scale-y: 1; --tw-scroll-snap-strictness: proximity; --tw-ring-off
 set-width: 0px; --tw-ring-offset-color: #fff; --tw-ring-color: rgb(59 130 2
 46/0.5); --tw-ring-offset-shadow: 0 0 #0000; --tw-ring-shadow: 0 0 #0000; -
 -tw-shadow: 0 0 #0000; --tw-shadow-colored: 0 0 #0000; font-weight: bold;">
 Beckenboden-Yoga verbindet&nbsp;sanftes Hatha Yoga&nbsp;und tief entspannen
 des&nbsp;Yin Yoga&nbsp;mit einem besonderen&nbsp;Fokus auf Beckenbodenwahrn
 ehmung.</span></p><p style="box-sizing: border-box; border: 0px solid #e5e7
 eb; --tw-border-spacing-x: 0; --tw-border-spacing-y: 0; --tw-translate-x: 0
 ; --tw-translate-y: 0; --tw-rotate: 0; --tw-skew-x: 0; --tw-skew-y: 0; --tw
 -scale-x: 1; --tw-scale-y: 1; --tw-scroll-snap-strictness: proximity; --tw-
 ring-offset-width: 0px; --tw-ring-offset-color: #fff; --tw-ring-color: rgb(
 59 130 246/0.5); --tw-ring-offset-shadow: 0 0 #0000; --tw-ring-shadow: 0 0 
 #0000; --tw-shadow: 0 0 #0000; --tw-shadow-colored: 0 0 #0000; margin: 0px 
 0px 12px; color: #141414; font-family: ui-sans-serif, system-ui, sans-serif
 , 'Apple Color Emoji', 'Segoe UI Emoji', 'Segoe UI Symbol', 'Noto Color Emo
 ji'; font-size: medium;">Diese Praxis unterstützt dich dabei, loszulassen, 
 dich zu erden, Kraft aufzubauen – und in einem sicheren Raum wieder mehr&nb
 sp;<span style="box-sizing: border-box; border: 0px solid #e5e7eb; --tw-bor
 der-spacing-x: 0; --tw-border-spacing-y: 0; --tw-translate-x: 0; --tw-trans
 late-y: 0; --tw-rotate: 0; --tw-skew-x: 0; --tw-skew-y: 0; --tw-scale-x: 1;
  --tw-scale-y: 1; --tw-scroll-snap-strictness: proximity; --tw-ring-offset-
 width: 0px; --tw-ring-offset-color: #fff; --tw-ring-color: rgb(59 130 246/0
 .5); --tw-ring-offset-shadow: 0 0 #0000; --tw-ring-shadow: 0 0 #0000; --tw-
 shadow: 0 0 #0000; --tw-shadow-colored: 0 0 #0000; font-weight: bold;">Verb
 indung zu deinem Körper</span>&nbsp;zu finden.</p><p style="box-sizing: bor
 der-box; border: 0px solid #e5e7eb; --tw-border-spacing-x: 0; --tw-border-s
 pacing-y: 0; --tw-translate-x: 0; --tw-translate-y: 0; --tw-rotate: 0; --tw
 -skew-x: 0; --tw-skew-y: 0; --tw-scale-x: 1; --tw-scale-y: 1; --tw-scroll-s
 nap-strictness: proximity; --tw-ring-offset-width: 0px; --tw-ring-offset-co
 lor: #fff; --tw-ring-color: rgb(59 130 246/0.5); --tw-ring-offset-shadow: 0
  0 #0000; --tw-ring-shadow: 0 0 #0000; --tw-shadow: 0 0 #0000; --tw-shadow-
 colored: 0 0 #0000; margin: 0px 0px 12px; color: #141414; font-family: ui-s
 ans-serif, system-ui, sans-serif, 'Apple Color Emoji', 'Segoe UI Emoji', 'S
 egoe UI Symbol', 'Noto Color Emoji'; font-size: medium;">Der Kurs richtet s
 ich an Frauen, die ihren Beckenboden achtsam erforschen, stärken und entspa
 nnen möchten. Es sind&nbsp;<span style="box-sizing: border-box; border: 0px
  solid #e5e7eb; --tw-border-spacing-x: 0; --tw-border-spacing-y: 0; --tw-tr
 anslate-x: 0; --tw-translate-y: 0; --tw-rotate: 0; --tw-skew-x: 0; --tw-ske
 w-y: 0; --tw-scale-x: 1; --tw-scale-y: 1; --tw-scroll-snap-strictness: prox
 imity; --tw-ring-offset-width: 0px; --tw-ring-offset-color: #fff; --tw-ring
 -color: rgb(59 130 246/0.5); --tw-ring-offset-shadow: 0 0 #0000; --tw-ring-
 shadow: 0 0 #0000; --tw-shadow: 0 0 #0000; --tw-shadow-colored: 0 0 #0000; 
 font-weight: bold;">keine Vorkenntnisse</span>&nbsp;notwendig.</p><p style=
 "box-sizing: border-box; border: 0px solid #e5e7eb; --tw-border-spacing-x: 
 0; --tw-border-spacing-y: 0; --tw-translate-x: 0; --tw-translate-y: 0; --tw
 -rotate: 0; --tw-skew-x: 0; --tw-skew-y: 0; --tw-scale-x: 1; --tw-scale-y: 
 1; --tw-scroll-snap-strictness: proximity; --tw-ring-offset-width: 0px; --t
 w-ring-offset-color: #fff; --tw-ring-color: rgb(59 130 246/0.5); --tw-ring-
 offset-shadow: 0 0 #0000; --tw-ring-shadow: 0 0 #0000; --tw-shadow: 0 0 #00
 00; --tw-shadow-colored: 0 0 #0000; margin: 0px 0px 12px; color: #141414; f
 ont-family: ui-sans-serif, system-ui, sans-serif, 'Apple Color Emoji', 'Seg
 oe UI Emoji', 'Segoe UI Symbol', 'Noto Color Emoji'; font-size: medium;">Da
  die Übungen nicht auf die besonderen Bedürfnisse in der Schwangerschaft ab
 gestimmt sind, richtet sich dieser Kurs ausschließlich an&nbsp;<span style=
 "box-sizing: border-box; border: 0px solid #e5e7eb; --tw-border-spacing-x: 
 0; --tw-border-spacing-y: 0; --tw-translate-x: 0; --tw-translate-y: 0; --tw
 -rotate: 0; --tw-skew-x: 0; --tw-skew-y: 0; --tw-scale-x: 1; --tw-scale-y: 
 1; --tw-scroll-snap-strictness: proximity; --tw-ring-offset-width: 0px; --t
 w-ring-offset-color: #fff; --tw-ring-color: rgb(59 130 246/0.5); --tw-ring-
 offset-shadow: 0 0 #0000; --tw-ring-shadow: 0 0 #0000; --tw-shadow: 0 0 #00
 00; --tw-shadow-colored: 0 0 #0000; font-weight: bold;">nicht-schwangere Fr
 auen</span>.</p><p style="box-sizing: border-box; border: 0px solid #e5e7eb
 ; --tw-border-spacing-x: 0; --tw-border-spacing-y: 0; --tw-translate-x: 0; 
 --tw-translate-y: 0; --tw-rotate: 0; --tw-skew-x: 0; --tw-skew-y: 0; --tw-s
 cale-x: 1; --tw-scale-y: 1; --tw-scroll-snap-strictness: proximity; --tw-ri
 ng-offset-width: 0px; --tw-ring-offset-color: #fff; --tw-ring-color: rgb(59
  130 246/0.5); --tw-ring-offset-shadow: 0 0 #0000; --tw-ring-shadow: 0 0 #0
 000; --tw-shadow: 0 0 #0000; --tw-shadow-colored: 0 0 #0000; margin: 0px 0p
 x 12px; color: #141414; font-family: ui-sans-serif, system-ui, sans-serif, 
 'Apple Color Emoji', 'Segoe UI Emoji', 'Segoe UI Symbol', 'Noto Color Emoji
 '; font-size: medium;">Neben klassischen Yoga-Haltungen liegt der Fokus auf
 &nbsp;<span style="box-sizing: border-box; border: 0px solid #e5e7eb; --tw-
 border-spacing-x: 0; --tw-border-spacing-y: 0; --tw-translate-x: 0; --tw-tr
 anslate-y: 0; --tw-rotate: 0; --tw-skew-x: 0; --tw-skew-y: 0; --tw-scale-x:
  1; --tw-scale-y: 1; --tw-scroll-snap-strictness: proximity; --tw-ring-offs
 et-width: 0px; --tw-ring-offset-color: #fff; --tw-ring-color: rgb(59 130 24
 6/0.5); --tw-ring-offset-shadow: 0 0 #0000; --tw-ring-shadow: 0 0 #0000; --
 tw-shadow: 0 0 #0000; --tw-shadow-colored: 0 0 #0000; font-weight: bold;">g
 ezielten Beckenboden-Übungen</span>&nbsp;- Mobilisation des Beckens, bewuss
 tes Ansteuern, Anspannen und Entspannen der Beckenbodenmuskulatur.Gearbeite
 t wird mit unterstützenden inneren Bildern, Atemtechniken, Tönen und unters
 chiedlichen Positionen – stets mit viel&nbsp;<span style="box-sizing: borde
 r-box; border: 0px solid #e5e7eb; --tw-border-spacing-x: 0; --tw-border-spa
 cing-y: 0; --tw-translate-x: 0; --tw-translate-y: 0; --tw-rotate: 0; --tw-s
 kew-x: 0; --tw-skew-y: 0; --tw-scale-x: 1; --tw-scale-y: 1; --tw-scroll-sna
 p-strictness: proximity; --tw-ring-offset-width: 0px; --tw-ring-offset-colo
 r: #fff; --tw-ring-color: rgb(59 130 246/0.5); --tw-ring-offset-shadow: 0 0
  #0000; --tw-ring-shadow: 0 0 #0000; --tw-shadow: 0 0 #0000; --tw-shadow-co
 lored: 0 0 #0000; font-weight: bold;">Achtsamkeit</span>.</p><p style="box-
 sizing: border-box; border: 0px solid #e5e7eb; --tw-border-spacing-x: 0; --
 tw-border-spacing-y: 0; --tw-translate-x: 0; --tw-translate-y: 0; --tw-rota
 te: 0; --tw-skew-x: 0; --tw-skew-y: 0; --tw-scale-x: 1; --tw-scale-y: 1; --
 tw-scroll-snap-strictness: proximity; --tw-ring-offset-width: 0px; --tw-rin
 g-offset-color: #fff; --tw-ring-color: rgb(59 130 246/0.5); --tw-ring-offse
 t-shadow: 0 0 #0000; --tw-ring-shadow: 0 0 #0000; --tw-shadow: 0 0 #0000; -
 -tw-shadow-colored: 0 0 #0000; margin: 0px 0px 12px; color: #141414; font-f
 amily: ui-sans-serif, system-ui, sans-serif, 'Apple Color Emoji', 'Segoe UI
  Emoji', 'Segoe UI Symbol', 'Noto Color Emoji'; font-size: medium;"><span s
 tyle="box-sizing: border-box; border: 0px solid #e5e7eb; --tw-border-spacin
 g-x: 0; --tw-border-spacing-y: 0; --tw-translate-x: 0; --tw-translate-y: 0;
  --tw-rotate: 0; --tw-skew-x: 0; --tw-skew-y: 0; --tw-scale-x: 1; --tw-scal
 e-y: 1; --tw-scroll-snap-strictness: proximity; --tw-ring-offset-width: 0px
 ; --tw-ring-offset-color: #fff; --tw-ring-color: rgb(59 130 246/0.5); --tw-
 ring-offset-shadow: 0 0 #0000; --tw-ring-shadow: 0 0 #0000; --tw-shadow: 0 
 0 #0000; --tw-shadow-colored: 0 0 #0000; font-weight: bold;">Du befindest d
 ich noch in der&nbsp;Rückbildungszeit? -</span>&nbsp;Bitte hole dir vorher 
 das OK von deiner Ärztin oder deinem Arzt zur Teilnahme am Kurs.</p><p styl
 e="box-sizing: border-box; border: 0px solid #e5e7eb; --tw-border-spacing-x
 : 0; --tw-border-spacing-y: 0; --tw-translate-x: 0; --tw-translate-y: 0; --
 tw-rotate: 0; --tw-skew-x: 0; --tw-skew-y: 0; --tw-scale-x: 1; --tw-scale-y
 : 1; --tw-scroll-snap-strictness: proximity; --tw-ring-offset-width: 0px; -
 -tw-ring-offset-color: #fff; --tw-ring-color: rgb(59 130 246/0.5); --tw-rin
 g-offset-shadow: 0 0 #0000; --tw-ring-shadow: 0 0 #0000; --tw-shadow: 0 0 #
 0000; --tw-shadow-colored: 0 0 #0000; margin: 0px 0px 12px; color: #141414;
  font-family: ui-sans-serif, system-ui, sans-serif, 'Apple Color Emoji', 'S
 egoe UI Emoji', 'Segoe UI Symbol', 'Noto Color Emoji'; font-size: medium;">
 <span style="box-sizing: border-box; border: 0px solid #e5e7eb; --tw-border
 -spacing-x: 0; --tw-border-spacing-y: 0; --tw-translate-x: 0; --tw-translat
 e-y: 0; --tw-rotate: 0; --tw-skew-x: 0; --tw-skew-y: 0; --tw-scale-x: 1; --
 tw-scale-y: 1; --tw-scroll-snap-strictness: proximity; --tw-ring-offset-wid
 th: 0px; --tw-ring-offset-color: #fff; --tw-ring-color: rgb(59 130 246/0.5)
 ; --tw-ring-offset-shadow: 0 0 #0000; --tw-ring-shadow: 0 0 #0000; --tw-sha
 dow: 0 0 #0000; --tw-shadow-colored: 0 0 #0000; font-weight: bold;">Hinweis
 :&nbsp;</span>Dieser Kurs wird auf Deutsch unterrichet.</p>
CONTACT:https://www.beyourmuse.at/stundenplan
X-EXTRAINFO:[preis='2000'][anmeldung='true']
DTSTAMP:20260426T015836
DTSTART:20250915T150000
DTEND:20250915T160000
SEQUENCE:0
TRANSP:OPAQUE
END:VEVENT
END:VCALENDAR