BEGIN:VCALENDAR
VERSION:2.0
PRODID:-//jEvents 2.0 for Joomla//EN
CALSCALE:GREGORIAN
METHOD:PUBLISH
BEGIN:VEVENT
UID:3e54778b36c088745862a28388c7c86c
CATEGORIES:14. Bezirk
CREATED:20250909T111237
SUMMARY:MamaWORKOUT - Rückbildung & Fitness mit Baby
LOCATION:Nebensitz\, Linzerstrasse 365\, 1140 Wien
DESCRIPTION:DONNERSTAG 9:30 Uhr - MamaWORKOUT mit Baby\nRückbildung und beckenbodenscho
 nendes Ganzkörpertraining auf die Bedürfnisse von Mamas zugeschnitten! Trai
 niere mit anderen Mamas während dein Baby erste soziale Kontakte erlebt. \n
 Herbstkurs: 11.9. / 18.9. / 25.9. / 2.10. / 9.10. / 16.10. \nAnmeldungunter
  eva.derdak@gmx.at (mailto:eva.derdak@gmx.at)\nKosten Herbstkurs: 110,- EUR
 \nAuch Einzel- und Schnuppereinheiten buchbar! \nSchreibe mir dazu gerne ei
 ne Nachricht an eva.derdak@gmx.at (mailto:eva.derdak@gmx.at)\nMehr Info: ww
 w.fit-mit-eva.at (https://www.fit-mit-eva.at)\n \n
X-ALT-DESC;FMTTYPE=text/html:<p style="margin: 0px; caret-color: #e8912a; color: #e8912a; font-family: '
 Fira Sans', sans-serif, google; font-size: 18px;"><span style="color: #4545
 45; font-size: 14px;"><strong>DONNERSTAG 9:30 Uhr - MamaWORKOUT mit Baby</s
 trong></span></p><p style="margin: 0px; caret-color: #e8912a; color: #e8912
 a; font-family: 'Fira Sans', sans-serif, google; font-size: 18px;"><span st
 yle="color: #454545; font-size: 14px;">Rückbildung und beckenbodenschonende
 s Ganzkörpertraining auf die Bedürfnisse von Mamas zugeschnitten! Trainiere
  mit anderen Mamas während dein Baby erste soziale Kontakte erlebt.&nbsp;</
 span></p><p style="margin: 0px; caret-color: #e8912a; color: #e8912a; font-
 family: 'Fira Sans', sans-serif, google; font-size: 18px;"><span style="col
 or: #e9932b; font-size: 14px;"><strong>Herbstkurs:</strong>&nbsp;11.9. / 18
 .9. / 25.9. / 2.10. / 9.10. / 16.10.&nbsp;</span></p><p style="margin: 0px;
  caret-color: #e8912a; color: #e8912a; font-family: 'Fira Sans', sans-serif
 , google; font-size: 18px;"><span style="color: #454545;"><strong><span sty
 le="font-size: 14px;">Anmeldung</span></strong></span><span style="color: #
 e8912a;"></span><span style="caret-color: #454545; color: #454545; font-wei
 ght: 700 !important;"><span style="font-size: 14px;"><span style="color: #4
 54545;">unter </span><span style="color: #e9932b;"><a href="mailto:eva.derd
 ak@gmx.at">eva.derdak@gmx.at</a></span></span></span></p><p style="margin: 
 0px; caret-color: #e8912a; color: #e8912a; font-family: 'Fira Sans', sans-s
 erif, google; font-size: 18px;"><span style="font-weight: 700 !important;">
 Kosten Herbstkurs: 110,- EUR</span></p><p style="margin: 0px; caret-color: 
 #e8912a; color: #e8912a; font-family: 'Fira Sans', sans-serif, google; font
 -size: 18px;"><strong><span style="font-size: 12px; color: #454545;">Auch E
 inzel- und Schnuppereinheiten buchbar! </span></strong></p><p style="margin
 : 0px; caret-color: #e8912a; color: #e8912a; font-family: 'Fira Sans', sans
 -serif, google; font-size: 18px;"><span style="font-size: 12px; color: #454
 545;"></span><span style="font-size: 12px; color: #454545;">Schreibe mir da
 zu gerne eine Nachricht an <a href="mailto:eva.derdak@gmx.at">eva.derdak@gm
 x.at</a></span></p><p>Mehr Info: <a href="https://www.fit-mit-eva.at">www.f
 it-mit-eva.at</a><span></span></p><p>&nbsp;</p>
CONTACT:Eva Derdak
X-EXTRAINFO:[preis='1800'][anmeldung='true']
DTSTAMP:20260426T020757
DTSTART:20250911T073000
DTEND:20250911T083000
SEQUENCE:0
TRANSP:OPAQUE
END:VEVENT
END:VCALENDAR