BEGIN:VCALENDAR
VERSION:2.0
PRODID:-//jEvents 2.0 for Joomla//EN
CALSCALE:GREGORIAN
METHOD:PUBLISH
BEGIN:VEVENT
UID:e13204ae3ea63b3b9465528e46fcf2ac
CATEGORIES:18. Bezirk
CREATED:20250914T154850
SUMMARY:Kleine Entdecker
LOCATION:Spielringel  Mollgasse  11-13
DESCRIPTION:<div class="frame-container" style="box-sizing: border-box; position: relat
 ive; width: 815px; padding-right: 0px; padding-left: 0px; margin-right: aut
 o; margin-left: auto; max-width: 1140px; margin-bottom: 0px;"><div class="f
 rame-inner" style="box-sizing: border-box;"><div class="textpic textpic-rig
 ht" style="box-sizing: border-box; display: flex; flex-wrap: wrap; margin-l
 eft: -20px; margin-right: -20px; margin-bottom: 0px;"><div class="textpic-i
 tem textpic-gallery" style="box-sizing: border-box; order: 2; width: 427.5p
 x; padding-left: 20px; padding-right: 20px; margin-bottom: 0px; color: #2b2
 b2b; font-family: Roboto; font-size: 16px; font-style: normal; font-variant
 -ligatures: normal; font-variant-caps: normal; font-weight: 400; letter-spa
 cing: normal; orphans: 2; text-align: left; text-indent: 0px; text-transfor
 m: none; widows: 2; word-spacing: 0px; -webkit-text-stroke-width: 0px; whit
 e-space: normal; background-color: #ffffff; text-decoration-thickness: init
 ial; text-decoration-style: initial; text-decoration-color: initial;"><div 
 class="gallery-row" style="box-sizing: border-box; display: flex; flex-wrap
 : wrap; margin-left: -0.5rem; margin-right: -0.5rem; margin-bottom: -1rem;"
 ><div class="gallery-item gallery-item-size-1" style="box-sizing: border-bo
 x; padding-left: 0.5rem; padding-right: 0.5rem; width: 403.5px;">&nbsp;</di
 v></div></div><div class="textpic-item textpic-text" style="box-sizing: bor
 der-box; order: 1; width: 427.5px; padding-left: 20px; padding-right: 20px;
  margin-bottom: 0px; color: #2b2b2b; font-family: Roboto; font-size: 16px; 
 font-style: normal; font-variant-ligatures: normal; font-variant-caps: norm
 al; font-weight: 400; letter-spacing: normal; orphans: 2; text-align: left;
  text-indent: 0px; text-transform: none; widows: 2; word-spacing: 0px; -web
 kit-text-stroke-width: 0px; white-space: normal; background-color: #ffffff;
  text-decoration-thickness: initial; text-decoration-style: initial; text-d
 ecoration-color: initial;">&nbsp;</div></div></div></div><header class="fra
 me-header" style="box-sizing: border-box; display: block;"><h2 class="eleme
 nt-header" style="box-sizing: border-box; margin-top: 0px; margin-bottom: 0
 .5rem; font-family: Montserrat; font-weight: 300; line-height: 1.2; font-si
 ze: 2.275rem;">Kleine Entdecker ab 17.09.</h2><h4 style="box-sizing: border
 -box; margin-top: 0px; margin-bottom: 1rem; font-family: Montserrat; font-w
 eight: 300; line-height: 1.2; font-size: 1.625rem;">2 bis 4 Jahre (mit Begl
 eitung)</h4><div id="page-content" class="bp-page-content main-section" sty
 le="box-sizing: border-box;"><div class="section section-default" style="bo
 x-sizing: border-box; overflow: hidden;"><div class="container" style="box-
 sizing: border-box; width: 1140px; padding-right: 20px; padding-left: 20px;
  margin-right: auto; margin-left: auto; max-width: 1140px;"><div class="sec
 tion-row" style="box-sizing: border-box; display: flex; flex-wrap: wrap; ma
 rgin-left: -20px; margin-right: -20px;"><div class="frame frame-default fra
 me-type-textpic frame-layout-0 frame-background-none frame-no-backgroundima
 ge frame-space-before-none frame-space-after-none" style="box-sizing: borde
 r-box; position: relative; padding-top: 3.5rem; padding-bottom: 3.5rem; mar
 gin-top: 0rem; margin-bottom: 0rem;"><div class="frame-container" style="bo
 x-sizing: border-box; position: relative; width: 815px; padding-right: 0px;
  padding-left: 0px; margin-right: auto; margin-left: auto; max-width: 1140p
 x; margin-bottom: 0px;"><div class="frame-inner" style="box-sizing: border-
 box;"><div class="textpic textpic-right" style="box-sizing: border-box; dis
 play: flex; flex-wrap: wrap; margin-left: -20px; margin-right: -20px; margi
 n-bottom: 0px;"><div class="textpic-item textpic-text" style="box-sizing: b
 order-box; order: 1; width: 427.5px; padding-left: 20px; padding-right: 20p
 x; margin-bottom: 0px;"><p style="box-sizing: border-box; margin-top: 0px; 
 margin-bottom: 1rem;">In dieser Spielgruppe für Kinder im Alter von 2 bis 4
  Jahren heißen wir alle neugierigen Entdecker willkommen, die die Welt spie
 lerisch entdecken möchten.</p><p style="box-sizing: border-box; margin-top:
  0px; margin-bottom: 1rem;">Jede Stunde starten wir mit dem Öffnen unseres 
 Entdeckerkoffers, der das spannende Thema des Tages enthüllt. Dieser Koffer
  ist gefüllt mit faszinierenden Materialien und Ideen, die die Fantasie der
  Kinder anregen und sie zum Mitmachen animieren.</p><p style="box-sizing: b
 order-box; margin-top: 0px; margin-bottom: 0px;">Im Anschluss werden vielfä
 ltige Aktionstabletts und Spiele angeboten, die zum Thema passen. Die klein
 en Entdecker haben die Möglichkeit, kreativ zu sein und neue Fähigkeiten zu
  entwickeln.&nbsp;</p></div></div></div></div></div><div id="c1401" class="
 frame frame-default frame-type-form_formframework frame-layout-0 frame-back
 ground-none frame-no-backgroundimage frame-space-before-none frame-space-af
 ter-none" style="box-sizing: border-box; position: relative; padding-top: 3
 .5rem; padding-bottom: 3.5rem; margin-top: -3.5rem; margin-bottom: 0rem;"><
 div class="frame-container" style="box-sizing: border-box; position: relati
 ve; width: 815px; padding-right: 0px; padding-left: 0px; margin-right: auto
 ; margin-left: auto; max-width: 1140px; margin-bottom: 0px;"><div class="fr
 ame-inner" style="box-sizing: border-box;"><div class="form-container form-
 identifier-anmeldeformular-1401" style="box-sizing: border-box; margin-bott
 om: 0px;"><form enctype="multipart/form-data" method="post" novalidate="nov
 alidate" id="anmeldeformular-1401" style="box-sizing: border-box;"><div sty
 le="box-sizing: border-box;">&nbsp;</div><input autocomplete="K0uGB3pYUd9Mw
 TOPimHl7Z" name="tx_form_formframework[anmeldeformular-1401][K0uGB3pYUd9MwT
 OPimHl7Z]" type="text" id="anmeldeformular-1401-K0uGB3pYUd9MwTOPimHl7Z" sty
 le="box-sizing: border-box; margin: 0px 0px 0px -999em; font-family: inheri
 t; font-size: inherit; line-height: inherit; overflow: visible; position: a
 bsolute;" tabindex="-1" aria-hidden="true" /><div class="form-actions" styl
 e="box-sizing: border-box; margin-top: 1em;"><nav class="form-navigation" s
 tyle="box-sizing: border-box;"><div class="btn-toolbar" style="box-sizing: 
 border-box; display: flex; flex-wrap: wrap; justify-content: flex-start;" r
 ole="toolbar"><div class="btn-group" style="box-sizing: border-box; positio
 n: relative; display: inline-flex; vertical-align: middle;" role="group"><s
 pan class="btn-group next" style="box-sizing: border-box; position: relativ
 e; display: inline-flex; vertical-align: middle;"></span></div></div></nav>
 </div></form></div></div></div></div></div></div></div></div><footer id="pa
 ge-footer" class="bp-page-footer" style="box-sizing: border-box;"><section 
 class="section footer-section footer-section-content" style="box-sizing: bo
 rder-box; overflow: hidden; color: #ffffff; background-color: #2b2b2b; font
 -family: Roboto; font-size: 16px;"><div class="container" style="box-sizing
 : border-box; width: 1140px; padding-right: 20px; padding-left: 20px; margi
 n-right: auto; margin-left: auto; max-width: 1140px;"><div class="section-r
 ow" style="box-sizing: border-box; display: flex; flex-wrap: wrap; margin-l
 eft: -20px; margin-right: -20px;"><div class="section-column footer-section
 -content-column footer-section-content-column-left" style="box-sizing: bord
 er-box; width: 380px; padding-left: 20px; padding-right: 20px;">&nbsp;</div
 ><div class="section-column footer-section-content-column footer-section-co
 ntent-column-middle" style="box-sizing: border-box; width: 380px; padding-l
 eft: 20px; padding-right: 20px;">&nbsp;</div><div class="section-column foo
 ter-section-content-column footer-section-content-column-right" style="box-
 sizing: border-box; width: 380px; padding-left: 20px; padding-right: 20px;"
 >&nbsp;</div></div></div></section><section class="section footer-section f
 ooter-section-meta" style="box-sizing: border-box; overflow: hidden; color:
  #ffffff; background-color: #232323; text-align: center; font-family: Robot
 o; font-size: 16px;"><div class="frame frame-background-none frame-space-be
 fore-none frame-space-after-none" style="box-sizing: border-box; position: 
 relative; padding-top: 3.5rem; padding-bottom: 3.5rem; margin-top: 0rem; ma
 rgin-bottom: 0rem;"><div class="frame-container" style="box-sizing: border-
 box; position: relative; width: 1140px; padding-right: 20px; padding-left: 
 20px; margin-right: auto; margin-left: auto; max-width: 1140px; margin-bott
 om: 0px;"><div class="frame-inner" style="box-sizing: border-box;"><div cla
 ss="footer-meta" style="box-sizing: border-box; overflow: hidden;">&nbsp;</
 div></div></div></div></section></footer></header>
CONTACT:www.spielringel.at
X-EXTRAINFO:[preis='9500'][anmeldung='true']
DTSTAMP:20260426T033604
DTSTART:20251001T123000
DTEND:20251001T133000
SEQUENCE:0
TRANSP:OPAQUE
END:VEVENT
END:VCALENDAR