BEGIN:VCALENDAR
VERSION:2.0
PRODID:-//jEvents 2.0 for Joomla//EN
CALSCALE:GREGORIAN
METHOD:PUBLISH
BEGIN:VEVENT
UID:28d625cc3775a38a2f4901cd938de018
CATEGORIES:22. Bezirk
CREATED:20250929T143415
SUMMARY:PowerFlummis-Tanzkurs (4-5 Jahre)
LOCATION:Tanzschule Schwebach\, Maculangasse 1b\, 1220 Wien
DESCRIPTION:In dieser Tanzstunde entdecken Kinder gemeinsam mit ihrer Trainerin spieler
 isch die Welt der Bewegung. \nBeim Tanzen und Spielen verbessern sie ganz n
 ebenbei ihre Koordination und ihr Rhythmusgefühl.\nDer Fokus liegt auf deut
 scher Musik, damit die Kinder die Liedtexte verstehen und sich bewusst zur 
 Musik bewegen können.\nKostenlose Schnupperstunde zu den Einstiegsterminen!
 \nPreise p. Monat.\nSchaut auf unserer Homepage vorbei: www.familydancesens
 ation.at\n\n
X-ALT-DESC;FMTTYPE=text/html:<p>In dieser Tanzstunde entdecken Kinder gemeinsam mit ihrer Trainerin spie
 lerisch die Welt der Bewegung.&nbsp;<br />Beim Tanzen und Spielen verbesser
 n sie ganz nebenbei ihre Koordination und ihr Rhythmusgefühl.<br />Der Foku
 s liegt auf deutscher Musik, damit die Kinder die Liedtexte verstehen und s
 ich bewusst zur Musik bewegen können.</p><p><strong>Kostenlose Schnupperstu
 nde zu den Einstiegsterminen!</strong></p><p>Preise p. Monat.</p><p>Schaut 
 auf unserer Homepage vorbei: <strong>www.familydancesensation.at</strong></
 p><p><span style="color: #ffffff; font-family: Roboto; font-size: 16px; bac
 kground-color: #6c586d;"></span></p>
CONTACT:info@familydancesensation.at
X-EXTRAINFO:[preis='3900'][anmeldung='true']
DTSTAMP:20260426T033111
DTSTART:20251001T140000
DTEND:20251001T145000
SEQUENCE:0
TRANSP:OPAQUE
END:VEVENT
END:VCALENDAR