BEGIN:VCALENDAR
VERSION:2.0
PRODID:-//jEvents 2.0 for Joomla//EN
CALSCALE:GREGORIAN
METHOD:PUBLISH
BEGIN:VEVENT
UID:6ae3342b6b90a8c2ef916e01a8d84ccf
CATEGORIES:22. Bezirk
CREATED:20250929T153954
SUMMARY:DancingShakers-Tanzkurs (6-7 Jahre)
LOCATION:Tanzschule Schwebach\, Maculangasse 1b\, 1220 Wien
DESCRIPTION:<p class="MsoNormal">In diesem energiegeladenen Kurs tanzen wir mal zu deut
 schen, mal zu englischen Songs – von bekannten Filmhits bis zu den aktuelle
 n Charts ist alles dabei!<br /> Mit coole Choreos, die spielerisch erste Ba
 sic-Schritte vermitteln, lernen die Kinder nicht zu tolle Moves, sondern st
 ärken auch ihr Rhythmusgefühl und Selbstbewusstsein.<br /> Hier wird gelach
 t, getanzt und voller Freude geshakt – ein Kurs, der bewegt und begeistert!
 <br /> <b style="mso-bidi-font-weight: normal;">Kostenlose Schnupperstunde 
 zu den Einstiegsterminen!</b><br /> Preise p. Monat.<br /> Schaut auf unser
 er Homepage vorbei: <b style="mso-bidi-font-weight: normal;">www.familydanc
 esensation.at</b></p>
CONTACT:info@familydancesensation.at
X-EXTRAINFO:[preis='3900'][anmeldung='true']
DTSTAMP:20260426T033644
DTSTART:20251001T144500
DTEND:20251001T153500
SEQUENCE:0
TRANSP:OPAQUE
END:VEVENT
END:VCALENDAR