BEGIN:VCALENDAR
VERSION:2.0
PRODID:-//jEvents 2.0 for Joomla//EN
CALSCALE:GREGORIAN
METHOD:PUBLISH
BEGIN:VEVENT
UID:35dddbe67ac1b8808c3f3ea76d8c749d
CATEGORIES:Online
CREATED:20251125T112506
SUMMARY:Physiotherapeutischer Geburtsvorbereitungskurs: Arbeit mit Körper und Bewegung
LOCATION:online
DESCRIPTION:Wie kann man den Geburtsverlauf positiv beeinflussen?\nAn meinem Kurs nehme
 n nicht nur Erstgebärende teil, sondern auch viele Frauen, die bereits Kind
 er haben und deren Geburten anders verlaufen sind als erhofft.\n Der Kurs f
 indet live über Zoom statt, wird aber auch aufgezeichnet. Es ist daher kein
  Problem, wenn du nicht live dabei sein kannst oder verspätet einsteigst!\n
 \n Termine:\n Di, 2.12., 9:15-11:15\n Di, 9.12., 9:15-11:15\n So, 14.12., 9
 :30-11:30\n \n Darum geht es im Kurs:\n Wie kann ich meinem Baby helfen, di
 e optimale Startposition zu finden - schon in der Schwangerschaft, aber auc
 h direkt während der Geburt?\n Was kann ich gegen schwangerschaftsbedingte 
 Schmerzen tun?\n Durch welche Positionen und Bewegungen kann ich den Geburt
 sverlauf positiv beeinflussen und welche können nachteilig sein?\n Warum so
 llte ich meinen Beckenboden schon jetzt trainieren und wie funktioniert das
 ?\n Wie läuft eine Geburt ab?\n Was hat es mit der richtigen Atmung auf sic
 h?\n Wie bewegt sich das Kind durch das Becken?\n Was tun bei Beckenendlage
  oder Sternguckern?\n Warum ist es wichtig, als gebärende Person gut inform
 iert zu sein?\n Wie kann ich mithelfen, Geburtsverletzungen vorzubeugen?\n 
 Wie setze ich meinen Körper während der Geburt optimal ein?\n Wie kann mich
  mein/e Partner*in bestmöglich unterstützen?\n Wie gestalte ich die Geburt 
 aktiv mit, statt mich passiv entbinden zu lassen?\n Was kann ich selbst ode
 r mein/e Partner*in gegen den Wehenschmerz tun?\n Was ist nach der Geburt w
 ichtig für meinen Körper?\nAll das und mehr besprechen wir in diesem Kurs. 
 Er kann und soll die Geburtsvorbereitung mit einer Hebamme keineswegs erset
 zen, ist aber eine sinnvolle Ergänzung dazu. Ich habe als Physiotherapeutin
  einschlägige Fortbildungen absolviert, eng mit Hebammen zusammengearbeitet
 , einige Geburten im beruflichen Kontext miterlebt (Krankenhaus, Hausgeburt
 ) und zwei eigene Kinder geboren (Krankenhaus, Geburtshaus).\nDie Teilnahme
  ist ab der 13. Schwangerschaftswoche möglich. Der dritte Termin sollte am 
 besten mit Partner*in besucht werden, ist aber auch mit einer anderen Begle
 itperson oder notfalls alleine möglich. Es dürfen nur Schwangere teilnehmen
 , dies ist keine Fortbildung!\n\nDie Kosten von € 108 beziehen sich auf den
  gesamten Kurs, nicht pro Termin.\n
X-ALT-DESC;FMTTYPE=text/html:<p class="MsoNormal">Wie kann man den Geburtsverlauf positiv beeinflussen?<
 /p><p class="MsoNormal">An meinem Kurs nehmen nicht nur Erstgebärende teil,
  sondern auch viele Frauen, die bereits Kinder haben und deren Geburten and
 ers verlaufen sind als erhofft.<br /> Der Kurs findet live über Zoom statt,
  wird aber auch aufgezeichnet. Es ist daher kein Problem, wenn du nicht liv
 e dabei sein kannst oder verspätet einsteigst!<br /><br /> Termine:<br /> D
 i, 2.12., 9:15-11:15<br /> Di, 9.12., 9:15-11:15<br /> So, 14.12., 9:30-11:
 30<br /> <br /> Darum geht es im Kurs:<br /> Wie kann ich meinem Baby helfe
 n, die optimale Startposition zu finden - schon in der Schwangerschaft, abe
 r auch direkt während der Geburt?<br /> Was kann ich gegen schwangerschafts
 bedingte Schmerzen tun?<br /> Durch welche Positionen und Bewegungen kann i
 ch den Geburtsverlauf positiv beeinflussen und welche können nachteilig sei
 n?<br /> Warum sollte ich meinen Beckenboden schon jetzt trainieren und wie
  funktioniert das?<br /> Wie läuft eine Geburt ab?<br /> Was hat es mit der
  richtigen Atmung auf sich?<br /> Wie bewegt sich das Kind durch das Becken
 ?<br /> Was tun bei Beckenendlage oder Sternguckern?<br /> Warum ist es wic
 htig, als gebärende Person gut informiert zu sein?<br /> Wie kann ich mithe
 lfen, Geburtsverletzungen vorzubeugen?<br /> Wie setze ich meinen Körper wä
 hrend der Geburt optimal ein?<br /> Wie kann mich mein/e Partner*in bestmög
 lich unterstützen?<br /> Wie gestalte ich die Geburt aktiv mit, statt mich 
 passiv entbinden zu lassen?<br /> Was kann ich selbst oder mein/e Partner*i
 n gegen den Wehenschmerz tun?<br /> Was ist nach der Geburt wichtig für mei
 nen Körper?</p><p class="MsoNormal">All das und mehr besprechen wir in dies
 em Kurs. Er kann und soll die Geburtsvorbereitung mit einer Hebamme keinesw
 egs ersetzen, ist aber eine sinnvolle Ergänzung dazu. Ich habe als Physioth
 erapeutin einschlägige Fortbildungen absolviert, eng mit Hebammen zusammeng
 earbeitet, einige Geburten im beruflichen Kontext miterlebt (Krankenhaus, H
 ausgeburt) und zwei eigene Kinder geboren (Krankenhaus, Geburtshaus).</p><p
  class="MsoNormal">Die Teilnahme ist ab der 13. Schwangerschaftswoche mögli
 ch. Der dritte Termin sollte am besten mit Partner*in besucht werden, ist a
 ber auch mit einer anderen Begleitperson oder notfalls alleine möglich.&nbs
 p;Es dürfen nur Schwangere teilnehmen, dies ist keine Fortbildung!<br /><br
  />Die Kosten von € 108 beziehen sich auf den gesamten Kurs, nicht pro Term
 in.</p>
CONTACT:http://www.physiomattes.at/geburtsvorbereitungskurse (http://www.physiomattes.at/geburtsvorbereitungskurse)
X-EXTRAINFO:[preis='10800'][anmeldung='true']
DTSTAMP:20260425T205428
DTSTART:20251202T081500
DTEND:20251202T101500
SEQUENCE:0
TRANSP:OPAQUE
END:VEVENT
END:VCALENDAR